Workbook

Sheet Generale
E1: LUPO | F1: =COUNTIF(C8:C57,"LUPO") -> 5 | G1: LUPI
B2: LASCIARE IN ORDINE ALFABETICO | E2: LUPACCHIOTTO | F2: =COUNTIF(C8:C52,"LUPACCHIOTTO") -> 3 | G2: LUPACCHIOTTI | H2: aggiornato al
E3: lupetto | F3: =COUNTIF(C8:C57,"lupetto") -> 5 | G3: LUPETTI | H3: =NOW() -> 46302.446
E4: lupino | F4: =COUNTIF(C8:C57,"lupino") -> 11 | G4: LUPINI
B5: SOLO PER ORDINE CLASSIFICA METTERE A SCALARE MA POI RIPORTARLO IN ORDINE ALFABETICO | E5: T | F5: =SUM(F1:F4) -> 24 | J5: 1 | L5: 2 | N5: 3° | P5: 4° | R5: 5° | T5: 6° | V5: 7° | X5: 8° | Z5: 9° | AB5: 10° | AD5: 11° | AF5: H10 | AH5: 1GP | AJ5: 2GP | AL5: 3GP | AN5: GOLD CUP | AP5: GRANDE GARA | AR5: FCI
E6: TOTALI senza esterni | F6: =SUM(F1:F4) -> 24 | J6: Tav Lazio | L6: Tav Lazio | N6: Tav Lazio
B7: RANKING GRUPPO LUPI 2021 | C7: LIVELLO | D7: PASSAGGIO | E7: MEDIA SU 8 | F7: MANCANTI | G7: EFFETTUATE | H7: TOT piattelli rotti sulle migliori 8 | I7: SERIE | J7: P | K7: S | L7: P | M7: S | N7: P | O7: S | P7: P | Q7: S | R7: P | S7: S | T7: P | U7: S | V7: P | W7: S | X7: P | Y7: S | Z7: P | AA7: S | AB7: P | AC7: S | AD7: P | AE7: S | AF7: P | AG7: S | AH7: P | AI7: S | AJ7: P | AK7: S | AL7: P | AM7: S | AN7: P | AO7: S | AP7: P | AQ7: S | AR7: P | AS7: S
A8: 1 | B8: =COMPILATORE!C4 -> Amato Pietro | C8: lupino | E8: =H8/I8 -> 13.333333 | F8: =8-G8 -> 5 | G8: =COUNTIF(J8:AG8,"<>0")/2 -> 3 | H8: =J8+L8+N8+P8+R8+T8+V8+X8+Z8+AB8+AD8+AF8+AH8+AJ8+AL8+AN8+AP8+AR8 -> 80 | I8: =K8+M8+O8+Q8+S8+U8+W8+Y8+AA8+AC8+AE8+AG8+AI8+AK8+AM8+AO8+AQ8+AS8 -> 6 | J8: =COMPILATORE!D4 -> 0 | K8: =COMPILATORE!E4 -> 0 | L8: =COMPILATORE!F4 -> 0 | M8: =COMPILATORE!G4 -> 0 | N8: =COMPILATORE!H4 -> 24 | O8: =COMPILATORE!I4 -> 2 | P8: =COMPILATORE!J4 -> 21 | Q8: =COMPILATORE!K4 -> 2 | ... AS8: =COMPILATORE!AM4 -> 0
A9: 2 | B9: =COMPILATORE!C5 -> Bernasconi Gabriele | C9: LUPO | D9: R2 | E9: =H9/I9 -> 22.707875 | F9: =8-G9 -> 1 | G9: =COUNTIF(J9:AG9,"<>0")/2 -> 7 | H9: =J9+L9+N9+P9+R9+T9+V9+X9+Z9+AB9+AD9+AF9+AH9+AJ9+AL9+AN9+AP9+AR9 -> 363.326 | I9: =K9+M9+O9+Q9+S9+U9+W9+Y9+AA9+AC9+AE9+AG9+AI9+AK9+AM9+AO9+AQ9+AS9 -> 16 | J9: =COMPILATORE!D5 -> 40.66 | K9: =COMPILATORE!E5 -> 2 | L9: =COMPILATORE!F5 -> 45 | M9: =COMPILATORE!G5 -> 2 | N9: =COMPILATORE!H5 -> 45 | O9: =COMPILATORE!I5 -> 2 | P9: =COMPILATORE!J5 -> 47 | Q9: =COMPILATORE!K5 -> 2 | ... AS9: =COMPILATORE!AM5 -> 0
A10: 3 | B10: =COMPILATORE!C6 -> Bruzzese Matteo | C10: Lupacchiotto | D10: R3 | E10: =H10/I10 -> 20.190214 | F10: =8-G10 -> 1 | G10: =COUNTIF(J10:AG10,"<>0")/2 -> 7 | H10: =J10+L10+N10+P10+R10+T10+V10+X10+Z10+AB10+AD10+AF10+AH10+AJ10+AL10+AN10+AP10+AR10 -> 282.663 | I10: =K10+M10+O10+Q10+S10+U10+W10+Y10+AA10+AC10+AE10+AG10+AI10+AK10+AM10+AO10+AQ10+AS10 -> 14 | J10: =COMPILATORE!D6 -> 35.33 | K10: =COMPILATORE!E6 -> 2 | L10: =COMPILATORE!F6 -> 41 | M10: =COMPILATORE!G6 -> 2 | N10: =COMPILATORE!H6 -> 44 | O10: =COMPILATORE!I6 -> 2 | P10: =COMPILATORE!J6 -> 42 | Q10: =COMPILATORE!K6 -> 2 | ... AS10: =COMPILATORE!AM6 -> 0
A11: 4 | B11: =COMPILATORE!C7 -> Caporuscio Federica | C11: LUPO | D11: R3 | E11: =H11/I11 -> 21.690429 | F11: =8-G11 -> 1 | G11: =COUNTIF(J11:AG11,"<>0")/2 -> 7 | H11: =J11+L11+N11+P11+R11+T11+V11+X11+Z11+AB11+AD11+AF11+AH11+AJ11+AL11+AN11+AP11+AR11 -> 303.666 | I11: =K11+M11+O11+Q11+S11+U11+W11+Y11+AA11+AC11+AE11+AG11+AI11+AK11+AM11+AO11+AQ11+AS11 -> 14 | J11: =COMPILATORE!D7 -> 40 | K11: =COMPILATORE!E7 -> 2 | L11: =COMPILATORE!F7 -> 43 | M11: =COMPILATORE!G7 -> 2 | N11: =COMPILATORE!H7 -> 48 | O11: =COMPILATORE!I7 -> 2 | P11: =COMPILATORE!J7 -> 43 | Q11: =COMPILATORE!K7 -> 2 | ... AS11: =COMPILATORE!AM7 -> 0
A12: 5 | B12: =COMPILATORE!C8 -> D'aversa Fabio | C12: lupino | E12: =H12/I12 -> 16.0993 | F12: =8-G12 -> 3 | G12: =COUNTIF(J12:AG12,"<>0")/2 -> 5 | H12: =J12+L12+N12+P12+R12+T12+V12+X12+Z12+AB12+AD12+AF12+AH12+AJ12+AL12+AN12+AP12+AR12 -> 160.993 | I12: =K12+M12+O12+Q12+S12+U12+W12+Y12+AA12+AC12+AE12+AG12+AI12+AK12+AM12+AO12+AQ12+AS12 -> 10 | J12: =COMPILATORE!D8 -> 28.66 | K12: =COMPILATORE!E8 -> 2 | L12: =COMPILATORE!F8 -> 0 | M12: =COMPILATORE!G8 -> 0 | N12: =COMPILATORE!H8 -> 0 | O12: =COMPILATORE!I8 -> 0 | P12: =COMPILATORE!J8 -> 35 | Q12: =COMPILATORE!K8 -> 2 | ... AS12: =COMPILATORE!AM8 -> 0
A13: 6 | B13: =COMPILATORE!C9 -> Del Priore Fabbrizio | C13: lupino | E13: =H13/I13 -> 12.5 | F13: =8-G13 -> 7 | G13: =COUNTIF(J13:AG13,"<>0")/2 -> 1 | H13: =J13+L13+N13+P13+R13+T13+V13+X13+Z13+AB13+AD13+AF13+AH13+AJ13+AL13+AN13+AP13+AR13 -> 25 | I13: =K13+M13+O13+Q13+S13+U13+W13+Y13+AA13+AC13+AE13+AG13+AI13+AK13+AM13+AO13+AQ13+AS13 -> 2 | J13: =COMPILATORE!D9 -> 0 | K13: =COMPILATORE!E9 -> 0 | L13: =COMPILATORE!F9 -> 25 | M13: =COMPILATORE!G9 -> 2 | N13: =COMPILATORE!H9 -> 0 | O13: =COMPILATORE!I9 -> 0 | P13: =COMPILATORE!J9 -> 0 | Q13: =COMPILATORE!K9 -> 0 | ... AS13: =COMPILATORE!AM9 -> 0
A14: 7 | B14: =COMPILATORE!C10 -> Iozzia Massimiliano | C14: LUPETTO | E14: =H14/I14 -> 18.166083 | F14: =8-G14 -> 2 | G14: =COUNTIF(J14:AG14,"<>0")/2 -> 6 | H14: =J14+L14+N14+P14+R14+T14+V14+X14+Z14+AB14+AD14+AF14+AH14+AJ14+AL14+AN14+AP14+AR14 -> 217.993 | I14: =K14+M14+O14+Q14+S14+U14+W14+Y14+AA14+AC14+AE14+AG14+AI14+AK14+AM14+AO14+AQ14+AS14 -> 12 | J14: =COMPILATORE!D10 -> 34.66 | K14: =COMPILATORE!E10 -> 2 | L14: =COMPILATORE!F10 -> 31 | M14: =COMPILATORE!G10 -> 2 | N14: =COMPILATORE!H10 -> 39 | O14: =COMPILATORE!I10 -> 2 | P14: =COMPILATORE!J10 -> 39 | Q14: =COMPILATORE!K10 -> 2 | ... AS14: =COMPILATORE!AM10 -> 0
A15: 8 | B15: =COMPILATORE!C11 -> Libertai Luciano | C15: lupetto | E15: =H15/I15 -> 17.66625 | F15: =8-G15 -> 4 | G15: =COUNTIF(J15:AG15,"<>0")/2 -> 4 | H15: =J15+L15+N15+P15+R15+T15+V15+X15+Z15+AB15+AD15+AF15+AH15+AJ15+AL15+AN15+AP15+AR15 -> 141.33 | I15: =K15+M15+O15+Q15+S15+U15+W15+Y15+AA15+AC15+AE15+AG15+AI15+AK15+AM15+AO15+AQ15+AS15 -> 8 | J15: =COMPILATORE!D11 -> 33.33 | K15: =COMPILATORE!E11 -> 2 | L15: =COMPILATORE!F11 -> 28 | M15: =COMPILATORE!G11 -> 2 | N15: =COMPILATORE!H11 -> 40 | O15: =COMPILATORE!I11 -> 2 | P15: =COMPILATORE!J11 -> 40 | Q15: =COMPILATORE!K11 -> 2 | ... AS15: =COMPILATORE!AM11 -> 0
A16: 9 | B16: =COMPILATORE!C12 -> Lizzio Giovanni | C16: LUPETTO | E16: =H16/I16 -> 15.75 | F16: =8-G16 -> 4 | G16: =COUNTIF(J16:AG16,"<>0")/2 -> 4 | H16: =J16+L16+N16+P16+R16+T16+V16+X16+Z16+AB16+AD16+AF16+AH16+AJ16+AL16+AN16+AP16+AR16 -> 126 | I16: =K16+M16+O16+Q16+S16+U16+W16+Y16+AA16+AC16+AE16+AG16+AI16+AK16+AM16+AO16+AQ16+AS16 -> 8 | J16: =COMPILATORE!D12 -> 34 | K16: =COMPILATORE!E12 -> 2 | L16: =COMPILATORE!F12 -> 30 | M16: =COMPILATORE!G12 -> 2 | N16: =COMPILATORE!H12 -> 0 | O16: =COMPILATORE!I12 -> 0 | P16: =COMPILATORE!J12 -> 32 | Q16: =COMPILATORE!K12 -> 2 | ... AS16: =COMPILATORE!AM12 -> 0
A17: 10 | B17: =COMPILATORE!C13 -> Mancini Roberto | C17: LUPACCHIOTTO | E17: =H17/I17 -> 18.928571 | F17: =8-G17 -> 3 | G17: =COUNTIF(J17:AG17,"<>0")/2 -> 5 | H17: =J17+L17+N17+P17+R17+T17+V17+X17+Z17+AB17+AD17+AF17+AH17+AJ17+AL17+AN17+AP17+AR17 -> 265 | I17: =K17+M17+O17+Q17+S17+U17+W17+Y17+AA17+AC17+AE17+AG17+AI17+AK17+AM17+AO17+AQ17+AS17 -> 14 | J17: =COMPILATORE!D13 -> 36 | K17: =COMPILATORE!E13 -> 2 | L17: =COMPILATORE!F13 -> 37 | M17: =COMPILATORE!G13 -> 2 | N17: =COMPILATORE!H13 -> 37 | O17: =COMPILATORE!I13 -> 2 | P17: =COMPILATORE!J13 -> 41 | Q17: =COMPILATORE!K13 -> 2 | ... AS17: =COMPILATORE!AM13 -> 0
A18: 11 | B18: =COMPILATORE!C14 -> Mastrangelo Claudio | C18: lupino | E18: =H18/I18 -> 14.555 | F18: =8-G18 -> 5 | G18: =COUNTIF(J18:AG18,"<>0")/2 -> 3 | H18: =J18+L18+N18+P18+R18+T18+V18+X18+Z18+AB18+AD18+AF18+AH18+AJ18+AL18+AN18+AP18+AR18 -> 87.33 | I18: =K18+M18+O18+Q18+S18+U18+W18+Y18+AA18+AC18+AE18+AG18+AI18+AK18+AM18+AO18+AQ18+AS18 -> 6 | J18: =COMPILATORE!D14 -> 27.33 | K18: =COMPILATORE!E14 -> 2 | L18: =COMPILATORE!F14 -> 0 | M18: =COMPILATORE!G14 -> 0 | N18: =COMPILATORE!H14 -> 24 | O18: =COMPILATORE!I14 -> 2 | P18: =COMPILATORE!J14 -> 0 | Q18: =COMPILATORE!K14 -> 0 | ... AS18: =COMPILATORE!AM14 -> 0
A19: 12 | B19: =COMPILATORE!C15 -> Mattei Valentino | C19: lupino | E19: =H19/I19 -> #DIV/0! | F19: =8-G19 -> 8 | G19: =COUNTIF(J19:AG19,"<>0")/2 -> 0 | H19: =J19+L19+N19+P19+R19+T19+V19+X19+Z19+AB19+AD19+AF19+AH19+AJ19+AL19+AN19+AP19+AR19 -> 0 | I19: =K19+M19+O19+Q19+S19+U19+W19+Y19+AA19+AC19+AE19+AG19+AI19+AK19+AM19+AO19+AQ19+AS19 -> 0 | J19: =COMPILATORE!D15 -> 0 | K19: =COMPILATORE!E15 -> 0 | L19: =COMPILATORE!F15 -> 0 | M19: =COMPILATORE!G15 -> 0 | N19: =COMPILATORE!H15 -> 0 | O19: =COMPILATORE!I15 -> 0 | P19: =COMPILATORE!J15 -> 0 | Q19: =COMPILATORE!K15 -> 0 | ... AS19: =COMPILATORE!AM15 -> 0
A20: 13 | B20: =COMPILATORE!C16 -> Micheli Americo | C20: LUPO | E20: =H20/I20 -> 19.11 | F20: =8-G20 -> 5 | G20: =COUNTIF(J20:AG20,"<>0")/2 -> 3 | H20: =J20+L20+N20+P20+R20+T20+V20+X20+Z20+AB20+AD20+AF20+AH20+AJ20+AL20+AN20+AP20+AR20 -> 114.66 | I20: =K20+M20+O20+Q20+S20+U20+W20+Y20+AA20+AC20+AE20+AG20+AI20+AK20+AM20+AO20+AQ20+AS20 -> 6 | J20: =COMPILATORE!D16 -> 42.66 | K20: =COMPILATORE!E16 -> 2 | L20: =COMPILATORE!F16 -> 0 | M20: =COMPILATORE!G16 -> 0 | N20: =COMPILATORE!H16 -> 40 | O20: =COMPILATORE!I16 -> 2 | P20: =COMPILATORE!J16 -> 32 | Q20: =COMPILATORE!K16 -> 2 | ... AS20: =COMPILATORE!AM16 -> 0
A21: 14 | B21: =COMPILATORE!C17 -> Negri Angelo | C21: lupino | E21: =H21/I21 -> 10.5 | F21: =8-G21 -> 7 | G21: =COUNTIF(J21:AG21,"<>0")/2 -> 1 | H21: =J21+L21+N21+P21+R21+T21+V21+X21+Z21+AB21+AD21+AF21+AH21+AJ21+AL21+AN21+AP21+AR21 -> 21 | I21: =K21+M21+O21+Q21+S21+U21+W21+Y21+AA21+AC21+AE21+AG21+AI21+AK21+AM21+AO21+AQ21+AS21 -> 2 | J21: =COMPILATORE!D17 -> 0 | K21: =COMPILATORE!E17 -> 0 | L21: =COMPILATORE!F17 -> 0 | M21: =COMPILATORE!G17 -> 0 | N21: =COMPILATORE!H17 -> 0 | O21: =COMPILATORE!I17 -> 0 | P21: =COMPILATORE!J17 -> 0 | Q21: =COMPILATORE!K17 -> 0 | ... AS21: =COMPILATORE!AM17 -> 0
A22: 15 | B22: =COMPILATORE!C18 -> Palma Angelo | C22: lupino | E22: =H22/I22 -> 12.875 | F22: =8-G22 -> 4 | G22: =COUNTIF(J22:AG22,"<>0")/2 -> 4 | H22: =J22+L22+N22+P22+R22+T22+V22+X22+Z22+AB22+AD22+AF22+AH22+AJ22+AL22+AN22+AP22+AR22 -> 103 | I22: =K22+M22+O22+Q22+S22+U22+W22+Y22+AA22+AC22+AE22+AG22+AI22+AK22+AM22+AO22+AQ22+AS22 -> 8 | J22: =COMPILATORE!D18 -> 24 | K22: =COMPILATORE!E18 -> 2 | L22: =COMPILATORE!F18 -> 22 | M22: =COMPILATORE!G18 -> 2 | N22: =COMPILATORE!H18 -> 0 | O22: =COMPILATORE!I18 -> 0 | P22: =COMPILATORE!J18 -> 29 | Q22: =COMPILATORE!K18 -> 2 | ... AS22: =COMPILATORE!AM18 -> 0
A23: 16 | B23: =COMPILATORE!C19 -> Piccioni Massimo | C23: lupino | E23: =H23/I23 -> 16.1 | F23: =8-G23 -> 3 | G23: =COUNTIF(J23:AG23,"<>0")/2 -> 5 | H23: =J23+L23+N23+P23+R23+T23+V23+X23+Z23+AB23+AD23+AF23+AH23+AJ23+AL23+AN23+AP23+AR23 -> 161 | I23: =K23+M23+O23+Q23+S23+U23+W23+Y23+AA23+AC23+AE23+AG23+AI23+AK23+AM23+AO23+AQ23+AS23 -> 10 | J23: =COMPILATORE!D19 -> 28 | K23: =COMPILATORE!E19 -> 2 | L23: =COMPILATORE!F19 -> 34 | M23: =COMPILATORE!G19 -> 2 | N23: =COMPILATORE!H19 -> 0 | O23: =COMPILATORE!I19 -> 0 | P23: =COMPILATORE!J19 -> 33 | Q23: =COMPILATORE!K19 -> 2 | ... AS23: =COMPILATORE!AM19 -> 0
... A25: 18 | B25: =COMPILATORE!C21 -> Quintarelli Vincenzo | C25: LUPACCHIOTTO | E25: =H25/I25 -> 16 | F25: =8-G25 -> 7 | G25: =COUNTIF(J25:AG25,"<>0")/2 -> 1 | H25: =J25+L25+N25+P25+R25+T25+V25+X25+Z25+AB25+AD25+AF25+AH25+AJ25+AL25+AN25+AP25+AR25 -> 32 | I25: =K25+M25+O25+Q25+S25+U25+W25+Y25+AA25+AC25+AE25+AG25+AI25+AK25+AM25+AO25+AQ25+AS25 -> 2 | J25: =COMPILATORE!D21 -> 0 | K25: =COMPILATORE!E21 -> 0 | L25: =COMPILATORE!F21 -> 32 | M25: =COMPILATORE!G21 -> 2 | N25: =COMPILATORE!H21 -> 0 | O25: =COMPILATORE!I21 -> 0 | P25: =COMPILATORE!J21 -> 0 | Q25: =COMPILATORE!K21 -> 0 | ... AS25: =COMPILATORE!AM21 -> 0
A26: 19 | B26: =COMPILATORE!C22 -> Ricciardi Sandro | C26: lupetto | E26: =H26/I26 -> 18.749667 | F26: =8-G26 -> 2 | G26: =COUNTIF(J26:AG26,"<>0")/2 -> 6 | H26: =J26+L26+N26+P26+R26+T26+V26+X26+Z26+AB26+AD26+AF26+AH26+AJ26+AL26+AN26+AP26+AR26 -> 224.996 | I26: =K26+M26+O26+Q26+S26+U26+W26+Y26+AA26+AC26+AE26+AG26+AI26+AK26+AM26+AO26+AQ26+AS26 -> 12 | J26: =COMPILATORE!D22 -> 33.33 | K26: =COMPILATORE!E22 -> 2 | L26: =COMPILATORE!F22 -> 0 | M26: =COMPILATORE!G22 -> 0 | N26: =COMPILATORE!H22 -> 37 | O26: =COMPILATORE!I22 -> 2 | P26: =COMPILATORE!J22 -> 38 | Q26: =COMPILATORE!K22 -> 2 | ... X26: =COMPILATORE!R22 -> 0 | Y26: =COMPILATORE!S20 -> 0 | Z26: =COMPILATORE!T22 -> 0 | AA26: =COMPILATORE!U22 -> 0 | AB26: =COMPILATORE!V22 -> 0 | AC26: =COMPILATORE!W22 -> 0 | AD26: =COMPILATORE!X22 -> 0 | AE26: =COMPILATORE!Y22 -> 0 | AF26: =COMPILATORE!Z22 -> 0 | AG26: =COMPILATORE!AA22 -> 0 | ... AS26: =COMPILATORE!AM22 -> 0
A27: 20 | B27: =COMPILATORE!C23 -> Sabatini Patrizio | C27: lupetto | E27: =H27/I27 -> 17.833333 | F27: =8-G27 -> 2 | G27: =COUNTIF(J27:AG27,"<>0")/2 -> 6 | H27: =J27+L27+N27+P27+R27+T27+V27+X27+Z27+AB27+AD27+AF27+AH27+AJ27+AL27+AN27+AP27+AR27 -> 214 | I27: =K27+M27+O27+Q27+S27+U27+W27+Y27+AA27+AC27+AE27+AG27+AI27+AK27+AM27+AO27+AQ27+AS27 -> 12 | J27: =COMPILATORE!D23 -> 34 | K27: =COMPILATORE!E23 -> 2 | L27: =COMPILATORE!F23 -> 30 | M27: =COMPILATORE!G23 -> 2 | N27: =COMPILATORE!H23 -> 41 | O27: =COMPILATORE!I23 -> 2 | P27: =COMPILATORE!J23 -> 39 | Q27: =COMPILATORE!K23 -> 2 | ... X27: =COMPILATORE!R23 -> 0 | Y27: =COMPILATORE!S21 -> 0 | Z27: =COMPILATORE!T23 -> 0 | AA27: =COMPILATORE!U23 -> 0 | AB27: =COMPILATORE!V23 -> 0 | AC27: =COMPILATORE!W23 -> 0 | AD27: =COMPILATORE!X23 -> 0 | AE27: =COMPILATORE!Y23 -> 0 | AF27: =COMPILATORE!Z23 -> 0 | AG27: =COMPILATORE!AA23 -> 0 | ... AS27: =COMPILATORE!AM23 -> 0
A28: 21 | B28: =COMPILATORE!C24 -> Santini Marco | C28: LUPO | E28: =H28/I28 -> 21.6 | F28: =8-G28 -> 3 | G28: =COUNTIF(J28:AG28,"<>0")/2 -> 5 | H28: =J28+L28+N28+P28+R28+T28+V28+X28+Z28+AB28+AD28+AF28+AH28+AJ28+AL28+AN28+AP28+AR28 -> 216 | I28: =K28+M28+O28+Q28+S28+U28+W28+Y28+AA28+AC28+AE28+AG28+AI28+AK28+AM28+AO28+AQ28+AS28 -> 10 | J28: =COMPILATORE!D24 -> 42 | K28: =COMPILATORE!E24 -> 2 | L28: =COMPILATORE!F24 -> 39 | M28: =COMPILATORE!G24 -> 2 | N28: =COMPILATORE!H24 -> 0 | O28: =COMPILATORE!I24 -> 0 | P28: =COMPILATORE!J24 -> 43 | Q28: =COMPILATORE!K24 -> 2 | ... X28: =COMPILATORE!R24 -> 0 | Y28: =COMPILATORE!S22 -> 0 | Z28: =COMPILATORE!T24 -> 0 | AA28: =COMPILATORE!U24 -> 0 | AB28: =COMPILATORE!V24 -> 0 | AC28: =COMPILATORE!W24 -> 0 | AD28: =COMPILATORE!X24 -> 0 | AE28: =COMPILATORE!Y24 -> 0 | AF28: =COMPILATORE!Z24 -> 0 | AG28: =COMPILATORE!AA24 -> 0 | ... AS28: =COMPILATORE!AM24 -> 0
A29: 22 | B29: =COMPILATORE!C25 -> Seri Caludio | C29: lupino | E29: =H29/I29 -> 14.11 | F29: =8-G29 -> 5 | G29: =COUNTIF(J29:AG29,"<>0")/2 -> 3 | H29: =J29+L29+N29+P29+R29+T29+V29+X29+Z29+AB29+AD29+AF29+AH29+AJ29+AL29+AN29+AP29+AR29 -> 84.66 | I29: =K29+M29+O29+Q29+S29+U29+W29+Y29+AA29+AC29+AE29+AG29+AI29+AK29+AM29+AO29+AQ29+AS29 -> 6 | J29: =COMPILATORE!D25 -> 32.66 | K29: =COMPILATORE!E25 -> 2 | L29: =COMPILATORE!F25 -> 19 | M29: =COMPILATORE!G25 -> 2 | N29: =COMPILATORE!H25 -> 0 | O29: =COMPILATORE!I25 -> 0 | P29: =COMPILATORE!J25 -> 33 | Q29: =COMPILATORE!K25 -> 2 | ... X29: =COMPILATORE!R25 -> 0 | Y29: =COMPILATORE!S23 -> 0 | Z29: =COMPILATORE!T25 -> 0 | AA29: =COMPILATORE!U25 -> 0 | AB29: =COMPILATORE!V25 -> 0 | AC29: =COMPILATORE!W25 -> 0 | AD29: =COMPILATORE!X25 -> 0 | AE29: =COMPILATORE!Y25 -> 0 | AF29: =COMPILATORE!Z25 -> 0 | AG29: =COMPILATORE!AA25 -> 0 | ... AS29: =COMPILATORE!AM25 -> 0
A30: 23 | B30: =COMPILATORE!C26 -> Spini Flavio | C30: LUPINO | E30: =H30/I30 -> #DIV/0! | F30: =8-G30 -> 8 | G30: =COUNTIF(J30:AG30,"<>0")/2 -> 0 | H30: =J30+L30+N30+P30+R30+T30+V30+X30+Z30+AB30+AD30+AF30+AH30+AJ30+AL30+AN30+AP30+AR30 -> 0 | I30: =K30+M30+O30+Q30+S30+U30+W30+Y30+AA30+AC30+AE30+AG30+AI30+AK30+AM30+AO30+AQ30+AS30 -> 0 | J30: =COMPILATORE!D26 -> 0 | K30: =COMPILATORE!E26 -> 0 | L30: =COMPILATORE!F26 -> 0 | M30: =COMPILATORE!G26 -> 0 | N30: =COMPILATORE!H26 -> 0 | O30: =COMPILATORE!I26 -> 0 | P30: =COMPILATORE!J26 -> 0 | Q30: =COMPILATORE!K26 -> 0 | ... X30: =COMPILATORE!R26 -> 0 | Y30: =COMPILATORE!S24 -> 0 | Z30: =COMPILATORE!T26 -> 0 | AA30: =COMPILATORE!U26 -> 0 | AB30: =COMPILATORE!V26 -> 0 | AC30: =COMPILATORE!W26 -> 0 | AD30: =COMPILATORE!X26 -> 0 | AE30: =COMPILATORE!Y26 -> 0 | AF30: =COMPILATORE!Z26 -> 0 | AG30: =COMPILATORE!AA26 -> 0 | ... AN30: =COMPILATORE!AH26 -> 0 | AO30: =COMPILATORE!AI24 -> 0 | AP30: =COMPILATORE!AJ26 -> 0 | AQ30: =COMPILATORE!AK26 -> 0 | AR30: =COMPILATORE!AL26 -> 0 | AS30: =COMPILATORE!AM26 -> 0
A31: 24 | B31: =COMPILATORE!C27 -> Tarchini Giacomo | C31: LUPO | E31: =H31/I31 -> 23.398 | F31: =8-G31 -> 6 | G31: =COUNTIF(J31:AG31,"<>0")/2 -> 2 | H31: =J31+L31+N31+P31+R31+T31+V31+X31+Z31+AB31+AD31+AF31+AH31+AJ31+AL31+AN31+AP31+AR31 -> 233.98 | I31: =K31+M31+O31+Q31+S31+U31+W31+Y31+AA31+AC31+AE31+AG31+AI31+AK31+AM31+AO31+AQ31+AS31 -> 10 | J31: =COMPILATORE!D27 -> 47.33 | K31: =COMPILATORE!E27 -> 2 | L31: =COMPILATORE!F27 -> 0 | M31: =COMPILATORE!G27 -> 0 | N31: =COMPILATORE!H27 -> 0 | O31: =COMPILATORE!I27 -> 0 | P31: =COMPILATORE!J27 -> 45 | Q31: =COMPILATORE!K27 -> 2 | ... X31: =COMPILATORE!R27 -> 0 | Y31: =COMPILATORE!S25 -> 0 | Z31: =COMPILATORE!T27 -> 0 | AA31: =COMPILATORE!U27 -> 0 | AB31: =COMPILATORE!V27 -> 0 | AC31: =COMPILATORE!W27 -> 0 | AD31: =COMPILATORE!X27 -> 0 | AE31: =COMPILATORE!Y25 -> 0 | AF31: =COMPILATORE!Z27 -> 0 | AG31: =COMPILATORE!AA27 -> 0 | AH31: =COMPILATORE!AB27 -> 46.8 | AI31: 2 | AJ31: =COMPILATORE!AD27 -> 0 | AK31: =COMPILATORE!AE27 -> 0 | AL31: =COMPILATORE!AF27 -> 48 | AM31: =COMPILATORE!AG27 -> 2 | AN31: =COMPILATORE!AH27 -> 46.85 | AO31: 2 | AP31: =COMPILATORE!AJ27 -> 0 | AQ31: =COMPILATORE!AK27 -> 0 | AR31: =COMPILATORE!AL27 -> 0 | AS31: =COMPILATORE!AM27 -> 0
A32: 25 | E32: =H32/I32 -> #DIV/0! | F32: =8-G32 -> 8 | G32: =COUNTIF(J32:AG32,"<>0")/2 -> 0 | H32: =J32+L32+N32+P32+R32+T32+V32+X32+Z32+AB32+AD32+AF32+AH32+AJ32+AL32+AN32+AP32+AR32 -> 0 | I32: =K32+M32+O32+Q32+S32+U32+W32+Y32+AA32+AC32+AE32+AG32+AI32+AK32+AM32+AO32+AQ32+AS32 -> 0 | J32: =COMPILATORE!D28 -> 0 | K32: =COMPILATORE!E26 -> 0 | L32: =COMPILATORE!F28 -> 0 | M32: =COMPILATORE!G26 -> 0 | N32: =COMPILATORE!H28 -> 0 | O32: =COMPILATORE!I28 -> 0 | P32: =COMPILATORE!J28 -> 0 | Q32: =COMPILATORE!K26 -> 0 | R32: =COMPILATORE!L28 -> 0 | S32: =COMPILATORE!M28 -> 0 | T32: =COMPILATORE!N28 -> 0 | U32: =COMPILATORE!O28 -> 0 | V32: =COMPILATORE!P28 -> 0 | W32: =COMPILATORE!Q28 -> 0 | X32: =COMPILATORE!R26 -> 0 | Y32: =COMPILATORE!S26 -> 0 | Z32: =COMPILATORE!T28 -> 0 | AA32: =COMPILATORE!U28 -> 0 | AB32: =COMPILATORE!V28 -> 0 | AC32: =COMPILATORE!W28 -> 0 | AD32: =COMPILATORE!X28 -> 0 | AE32: =COMPILATORE!Y26 -> 0 | AF32: =COMPILATORE!Z26 -> 0 | AG32: =COMPILATORE!AA28 -> 0 | AH32: =COMPILATORE!AB28 -> 0 | AI32: =COMPILATORE!AC28 -> 0 | AJ32: =COMPILATORE!AD26 -> 0 | AK32: =COMPILATORE!AE28 -> 0 | AL32: =COMPILATORE!AF28 -> 0 | AM32: =COMPILATORE!AG28 -> 0 | AN32: =COMPILATORE!AH26 -> 0 | AO32: =COMPILATORE!AI26 -> 0 | AP32: =COMPILATORE!AJ28 -> 0 | AQ32: =COMPILATORE!AK28 -> 0 | AR32: =COMPILATORE!AL28 -> 0 | AS32: =COMPILATORE!AM28 -> 0
A33: 26 | E33: =H33/I33 -> 15.696667 | F33: =8-G33 -> 5.5 | G33: =COUNTIF(J33:AS33,"<>0")/2 -> 2.5 | H33: =J33+L33+N33+P33+R33+T33+V33+X33+Z33+AB33+AD33+AF33+AH33+AJ33+AL33+AN33+AP33+AR33 -> 94.18 | I33: =K33+M33+O33+Q33+S33+U33+W33+Y33+AA33+AC33+AE33+AG33+AI33+AK33+AM33+AO33+AQ33+AS33 -> 6 | J33: =COMPILATORE!D27 -> 47.33 | K33: =COMPILATORE!E27 -> 2 | L33: =COMPILATORE!F29 -> 0 | M33: =COMPILATORE!G27 -> 0 | N33: =COMPILATORE!H29 -> 0 | O33: =COMPILATORE!I29 -> 0 | P33: =COMPILATORE!J29 -> 0 | Q33: =COMPILATORE!K27 -> 2 | R33: =COMPILATORE!L29 -> 0 | S33: =COMPILATORE!M29 -> 0 | T33: =COMPILATORE!N29 -> 0 | U33: =COMPILATORE!O29 -> 0 | V33: =COMPILATORE!P29 -> 0 | W33: =COMPILATORE!Q29 -> 0 | X33: =COMPILATORE!R27 -> 0 | Y33: =COMPILATORE!S27 -> 0 | Z33: =COMPILATORE!T29 -> 0 | AA33: =COMPILATORE!U29 -> 0 | AB33: =COMPILATORE!V29 -> 0 | AC33: =COMPILATORE!W27 -> 0 | AD33: =COMPILATORE!X27 -> 0 | AE33: =COMPILATORE!Y27 -> 0 | AF33: =COMPILATORE!Z27 -> 0 | AG33: =COMPILATORE!AA29 -> 0 | AH33: =COMPILATORE!AB29 -> 0 | AI33: =COMPILATORE!AC29 -> 0 | AJ33: =COMPILATORE!AD27 -> 0 | AK33: =COMPILATORE!AE29 -> 0 | AL33: =COMPILATORE!AF29 -> 0 | AM33: =COMPILATORE!AG29 -> 0 | AN33: =COMPILATORE!AH27 -> 46.85 | AO33: =COMPILATORE!AI27 -> 2 | AP33: =COMPILATORE!AJ27 -> 0 | AQ33: =COMPILATORE!AK29 -> 0 | AR33: =COMPILATORE!AL29 -> 0 | AS33: =COMPILATORE!AM29 -> 0
A34: 27 | E34: =H34/I34 -> #DIV/0! | F34: =8-G34 -> 8 | G34: =COUNTIF(J34:AS34,"<>0")/2 -> 0 | H34: =J34+L34+N34+P34+R34+T34+V34+X34+Z34+AB34+AD34+AF34+AH34+AJ34+AL34+AN34+AP34+AR34 -> 0 | I34: =K34+M34+O34+Q34+S34+U34+W34+Y34+AA34+AC34+AE34+AG34+AI34+AK34+AM34+AO34+AQ34+AS34 -> 0 | J34: =COMPILATORE!D28 -> 0 | K34: =COMPILATORE!E28 -> 0 | L34: =COMPILATORE!F30 -> 0 | M34: =COMPILATORE!G28 -> 0 | N34: =COMPILATORE!H30 -> 0 | O34: =COMPILATORE!I30 -> 0 | P34: =COMPILATORE!J30 -> 0 | Q34: =COMPILATORE!K28 -> 0 | R34: =COMPILATORE!L30 -> 0 | S34: =COMPILATORE!M30 -> 0 | T34: =COMPILATORE!N28 -> 0 | U34: =COMPILATORE!O30 -> 0 | V34: =COMPILATORE!P30 -> 0 | W34: =COMPILATORE!Q28 -> 0 | X34: =COMPILATORE!R28 -> 0 | Y34: =COMPILATORE!S28 -> 0 | Z34: =COMPILATORE!T30 -> 0 | AA34: =COMPILATORE!U30 -> 0 | AB34: =COMPILATORE!V30 -> 0 | AC34: =COMPILATORE!W28 -> 0 | AD34: =COMPILATORE!X28 -> 0 | AE34: =COMPILATORE!Y28 -> 0 | AF34: =COMPILATORE!Z28 -> 0 | AG34: =COMPILATORE!AA30 -> 0 | AH34: =COMPILATORE!AB28 -> 0 | AI34: =COMPILATORE!AC30 -> 0 | AJ34: =COMPILATORE!AD28 -> 0 | AK34: =COMPILATORE!AE30 -> 0 | AL34: =COMPILATORE!AF30 -> 0 | AM34: =COMPILATORE!AG30 -> 0 | AN34: =COMPILATORE!AH28 -> 0 | AO34: =COMPILATORE!AI28 -> 0 | AP34: =COMPILATORE!AJ28 -> 0 | AQ34: =COMPILATORE!AK30 -> 0 | AR34: =COMPILATORE!AL30 -> 0 | AS34: =COMPILATORE!AM30 -> 0
A35: 28 | E35: =H35/I35 -> #DIV/0! | F35: =8-G35 -> 8 | G35: =COUNTIF(J35:AS35,"<>0")/2 -> 0 | H35: =J35+L35+N35+P35+R35+T35+V35+X35+Z35+AB35+AD35+AF35+AH35+AJ35+AL35+AN35+AP35+AR35 -> 0 | I35: =K35+M35+O35+Q35+S35+U35+W35+Y35+AA35+AC35+AE35+AG35+AI35+AK35+AM35+AO35+AQ35+AS35 -> 0 | J35: =COMPILATORE!D29 -> 0 | K35: =COMPILATORE!E29 -> 0 | L35: =COMPILATORE!F29 -> 0 | M35: =COMPILATORE!G29 -> 0 | N35: =COMPILATORE!H31 -> 0 | O35: =COMPILATORE!I31 -> 0 | P35: =COMPILATORE!J31 -> 0 | Q35: =COMPILATORE!K29 -> 0 | R35: =COMPILATORE!L31 -> 0 | S35: =COMPILATORE!M31 -> 0 | T35: =COMPILATORE!N29 -> 0 | U35: =COMPILATORE!O29 -> 0 | V35: =COMPILATORE!P31 -> 0 | W35: =COMPILATORE!Q29 -> 0 | X35: =COMPILATORE!R29 -> 0 | Y35: =COMPILATORE!S29 -> 0 | Z35: =COMPILATORE!T31 -> 0 | AA35: =COMPILATORE!U31 -> 0 | AB35: =COMPILATORE!V31 -> 0 | AC35: =COMPILATORE!W29 -> 0 | AD35: =COMPILATORE!X29 -> 0 | AE35: =COMPILATORE!Y29 -> 0 | AF35: =COMPILATORE!Z29 -> 0 | AG35: =COMPILATORE!AA29 -> 0 | AH35: =COMPILATORE!AB29 -> 0 | AI35: =COMPILATORE!AC31 -> 0 | AJ35: =COMPILATORE!AD29 -> 0 | AK35: =COMPILATORE!AE31 -> 0 | AL35: =COMPILATORE!AF29 -> 0 | AM35: =COMPILATORE!AG31 -> 0 | AN35: =COMPILATORE!AH29 -> 0 | AO35: =COMPILATORE!AI29 -> 0 | AP35: =COMPILATORE!AJ29 -> 0 | AQ35: =COMPILATORE!AK31 -> 0 | AR35: =COMPILATORE!AL29 -> 0 | AS35: =COMPILATORE!AM31 -> 0
A36: 29 | E36: =H36/I36 -> #DIV/0! | F36: =8-G36 -> 8 | G36: =COUNTIF(J36:AS36,"<>0")/2 -> 0 | H36: =J36+L36+N36+P36+R36+T36+V36+X36+Z36+AB36+AD36+AF36+AH36+AJ36+AL36+AN36+AP36+AR36 -> 0 | I36: =K36+M36+O36+Q36+S36+U36+W36+Y36+AA36+AC36+AE36+AG36+AI36+AK36+AM36+AO36+AQ36+AS36 -> 0 | J36: =COMPILATORE!D30 -> 0 | K36: =COMPILATORE!E30 -> 0 | L36: =COMPILATORE!F30 -> 0 | M36: =COMPILATORE!G30 -> 0 | N36: =COMPILATORE!H30 -> 0 | O36: =COMPILATORE!I32 -> 0 | P36: =COMPILATORE!J32 -> 0 | Q36: =COMPILATORE!K30 -> 0 | R36: =COMPILATORE!L32 -> 0 | S36: =COMPILATORE!M30 -> 0 | T36: =COMPILATORE!N30 -> 0 | U36: =COMPILATORE!O30 -> 0 | V36: =COMPILATORE!P32 -> 0 | W36: =COMPILATORE!Q30 -> 0 | X36: =COMPILATORE!R30 -> 0 | Y36: =COMPILATORE!S30 -> 0 | Z36: =COMPILATORE!T32 -> 0 | AA36: =COMPILATORE!U32 -> 0 | AB36: =COMPILATORE!V32 -> 0 | AC36: =COMPILATORE!W30 -> 0 | AD36: =COMPILATORE!X30 -> 0 | AE36: =COMPILATORE!Y30 -> 0 | AF36: =COMPILATORE!Z30 -> 0 | AG36: =COMPILATORE!AA30 -> 0 | AH36: =COMPILATORE!AB30 -> 0 | AI36: =COMPILATORE!AC32 -> 0 | AJ36: =COMPILATORE!AD30 -> 0 | AK36: =COMPILATORE!AE32 -> 0 | AL36: =COMPILATORE!AF30 -> 0 | AM36: =COMPILATORE!AG30 -> 0 | AN36: =COMPILATORE!AH30 -> 0 | AO36: =COMPILATORE!AI30 -> 0 | AP36: =COMPILATORE!AJ30 -> 0 | AQ36: =COMPILATORE!AK32 -> 0 | AR36: =COMPILATORE!AL30 -> 0 | AS36: =COMPILATORE!AM30 -> 0
A37: 30 | E37: =H37/I37 -> #DIV/0! | F37: =8-G37 -> 8 | G37: =COUNTIF(J37:AS37,"<>0")/2 -> 0 | H37: =J37+L37+N37+P37+R37+T37+V37+X37+Z37+AB37+AD37+AF37+AH37+AJ37+AL37+AN37+AP37+AR37 -> 0 | I37: =K37+M37+O37+Q37+S37+U37+W37+Y37+AA37+AC37+AE37+AG37+AI37+AK37+AM37+AO37+AQ37+AS37 -> 0 | J37: =COMPILATORE!D31 -> 0 | K37: =COMPILATORE!E31 -> 0 | L37: =COMPILATORE!F31 -> 0 | M37: =COMPILATORE!G31 -> 0 | N37: =COMPILATORE!H31 -> 0 | O37: =COMPILATORE!I33 -> 0 | P37: =COMPILATORE!J33 -> 0 | Q37: =COMPILATORE!K31 -> 0 | R37: =COMPILATORE!L33 -> 0 | S37: =COMPILATORE!M31 -> 0 | T37: =COMPILATORE!N31 -> 0 | U37: =COMPILATORE!O31 -> 0 | V37: =COMPILATORE!P31 -> 0 | W37: =COMPILATORE!Q31 -> 0 | X37: =COMPILATORE!R31 -> 0 | Y37: =COMPILATORE!S31 -> 0 | Z37: =COMPILATORE!T33 -> 0 | AA37: =COMPILATORE!U33 -> 0 | AB37: =COMPILATORE!V33 -> 0 | AC37: =COMPILATORE!W31 -> 0 | AD37: =COMPILATORE!X31 -> 0 | AE37: =COMPILATORE!Y31 -> 0 | AF37: =COMPILATORE!Z31 -> 0 | AG37: =COMPILATORE!AA31 -> 0 | AH37: =COMPILATORE!AB31 -> 0 | AI37: =COMPILATORE!AC33 -> 0 | AJ37: =COMPILATORE!AD31 -> 0 | AK37: =COMPILATORE!AE31 -> 0 | AL37: =COMPILATORE!AF31 -> 0 | AM37: =COMPILATORE!AG31 -> 0 | AN37: =COMPILATORE!AH31 -> 0 | AO37: =COMPILATORE!AI31 -> 0 | AP37: =COMPILATORE!AJ31 -> 0 | AQ37: =COMPILATORE!AK33 -> 0 | AR37: =COMPILATORE!AL31 -> 0 | AS37: =COMPILATORE!AM31 -> 0
A38: 31 | E38: =H38/I38 -> #DIV/0! | F38: =8-G38 -> 8 | G38: =COUNTIF(J38:AS38,"<>0")/2 -> 0 | H38: =J38+L38+N38+P38+R38+T38+V38+X38+Z38+AB38+AD38+AF38+AH38+AJ38+AL38+AN38+AP38+AR38 -> 0 | I38: =K38+M38+O38+Q38+S38+U38+W38+Y38+AA38+AC38+AE38+AG38+AI38+AK38+AM38+AO38+AQ38+AS38 -> 0 | J38: =COMPILATORE!D32 -> 0 | K38: =COMPILATORE!E32 -> 0 | L38: =COMPILATORE!F32 -> 0 | M38: =COMPILATORE!G32 -> 0 | N38: =COMPILATORE!H32 -> 0 | O38: =COMPILATORE!I32 -> 0 | P38: =COMPILATORE!J34 -> 0 | Q38: =COMPILATORE!K32 -> 0 | R38: =COMPILATORE!L32 -> 0 | S38: =COMPILATORE!M32 -> 0 | T38: =COMPILATORE!N32 -> 0 | U38: =COMPILATORE!O32 -> 0 | V38: =COMPILATORE!P32 -> 0 | W38: =COMPILATORE!Q32 -> 0 | X38: =COMPILATORE!R32 -> 0 | Y38: =COMPILATORE!S32 -> 0 | Z38: =COMPILATORE!T34 -> 0 | AA38: =COMPILATORE!U34 -> 0 | AB38: =COMPILATORE!V34 -> 0 | AC38: =COMPILATORE!W32 -> 0 | AD38: =COMPILATORE!X32 -> 0 | AE38: =COMPILATORE!Y32 -> 0 | AF38: =COMPILATORE!Z32 -> 0 | AG38: =COMPILATORE!AA32 -> 0 | AH38: =COMPILATORE!AB32 -> 0 | AI38: =COMPILATORE!AC32 -> 0 | AJ38: =COMPILATORE!AD32 -> 0 | ... AP38: =COMPILATORE!AJ32 -> 0 | AQ38: =COMPILATORE!AK34 -> 0 | AR38: =COMPILATORE!AL32 -> 0 | AS38: =COMPILATORE!AM32 -> 0
A39: 32 | E39: =H39/I39 -> #DIV/0! | F39: =8-G39 -> 8 | G39: =COUNTIF(J39:AS39,"<>0")/2 -> 0 | H39: =J39+L39+N39+P39+R39+T39+V39+X39+Z39+AB39+AD39+AF39+AH39+AJ39+AL39+AN39+AP39+AR39 -> 0 | I39: =K39+M39+O39+Q39+S39+U39+W39+Y39+AA39+AC39+AE39+AG39+AI39+AK39+AM39+AO39+AQ39+AS39 -> 0 | J39: =COMPILATORE!D33 -> 0 | K39: =COMPILATORE!E33 -> 0 | L39: =COMPILATORE!F33 -> 0 | M39: =COMPILATORE!G33 -> 0 | N39: =COMPILATORE!H33 -> 0 | O39: =COMPILATORE!I33 -> 0 | P39: =COMPILATORE!J35 -> 0 | Q39: =COMPILATORE!K33 -> 0 | R39: =COMPILATORE!L33 -> 0 | S39: =COMPILATORE!M33 -> 0 | T39: =COMPILATORE!N33 -> 0 | U39: =COMPILATORE!O33 -> 0 | V39: =COMPILATORE!P33 -> 0 | W39: =COMPILATORE!Q33 -> 0 | X39: =COMPILATORE!R33 -> 0 | Y39: =COMPILATORE!S33 -> 0 | Z39: =COMPILATORE!T35 -> 0 | AA39: =COMPILATORE!U35 -> 0 | AB39: =COMPILATORE!V35 -> 0 | AC39: =COMPILATORE!W33 -> 0 | AD39: =COMPILATORE!X33 -> 0 | AE39: =COMPILATORE!Y33 -> 0 | AF39: =COMPILATORE!Z33 -> 0 | AG39: =COMPILATORE!AA33 -> 0 | AH39: =COMPILATORE!AB33 -> 0 | AI39: =COMPILATORE!AC33 -> 0 | AJ39: =COMPILATORE!AD33 -> 0 | ... AP39: =COMPILATORE!AJ33 -> 0 | AQ39: =COMPILATORE!AK35 -> 0 | AR39: =COMPILATORE!AL33 -> 0 | AS39: =COMPILATORE!AM33 -> 0
A40: 33 | E40: =H40/I40 -> #DIV/0! | F40: =8-G40 -> 8 | G40: =COUNTIF(J40:AS40,"<>0")/2 -> 0 | H40: =J40+L40+N40+P40+R40+T40+V40+X40+Z40+AB40+AD40+AF40+AH40+AJ40+AL40+AN40+AP40+AR40 -> 0 | I40: =K40+M40+O40+Q40+S40+U40+W40+Y40+AA40+AC40+AE40+AG40+AI40+AK40+AM40+AO40+AQ40+AS40 -> 0 | J40: =COMPILATORE!D34 -> 0 | K40: =COMPILATORE!E34 -> 0 | L40: =COMPILATORE!F34 -> 0 | M40: =COMPILATORE!G34 -> 0 | N40: =COMPILATORE!H34 -> 0 | O40: =COMPILATORE!I34 -> 0 | P40: =COMPILATORE!J36 -> 0 | Q40: =COMPILATORE!K34 -> 0 | R40: =COMPILATORE!L34 -> 0 | S40: =COMPILATORE!M34 -> 0 | T40: =COMPILATORE!N34 -> 0 | U40: =COMPILATORE!O34 -> 0 | V40: =COMPILATORE!P34 -> 0 | W40: =COMPILATORE!Q34 -> 0 | X40: =COMPILATORE!R34 -> 0 | ... AA40: =COMPILATORE!U34 -> 0 | AB40: =COMPILATORE!V36 -> 0 | AC40: =COMPILATORE!W34 -> 0 | AD40: =COMPILATORE!X34 -> 0 | AE40: =COMPILATORE!Y34 -> 0 | AF40: =COMPILATORE!Z34 -> 0 | AG40: =COMPILATORE!AA34 -> 0 | AH40: =COMPILATORE!AB34 -> 0 | AI40: =COMPILATORE!AC34 -> 0 | AJ40: =COMPILATORE!AD34 -> 0 | ... AS40: =COMPILATORE!AM34 -> 0
A41: 34 | E41: =H41/I41 -> #DIV/0! | F41: =8-G41 -> 8 | G41: =COUNTIF(J41:AS41,"<>0")/2 -> 0 | H41: =J41+L41+N41+P41+R41+T41+V41+X41+Z41+AB41+AD41+AF41+AH41+AJ41+AL41+AN41+AP41+AR41 -> 0 | I41: =K41+M41+O41+Q41+S41+U41+W41+Y41+AA41+AC41+AE41+AG41+AI41+AK41+AM41+AO41+AQ41+AS41 -> 0 | J41: =COMPILATORE!D35 -> 0 | K41: =COMPILATORE!E35 -> 0 | L41: =COMPILATORE!F35 -> 0 | M41: =COMPILATORE!G35 -> 0 | N41: =COMPILATORE!H35 -> 0 | O41: =COMPILATORE!I35 -> 0 | P41: =COMPILATORE!J37 -> 0 | Q41: =COMPILATORE!K35 -> 0 | R41: =COMPILATORE!L35 -> 0 | S41: =COMPILATORE!M35 -> 0 | T41: =COMPILATORE!N35 -> 0 | U41: =COMPILATORE!O35 -> 0 | V41: =COMPILATORE!P35 -> 0 | W41: =COMPILATORE!Q35 -> 0 | X41: =COMPILATORE!R35 -> 0 | ... AA41: =COMPILATORE!U35 -> 0 | AB41: =COMPILATORE!V37 -> 0 | AC41: =COMPILATORE!W35 -> 0 | AD41: =COMPILATORE!X35 -> 0 | AE41: =COMPILATORE!Y35 -> 0 | AF41: =COMPILATORE!Z35 -> 0 | AG41: =COMPILATORE!AA35 -> 0 | AH41: =COMPILATORE!AB35 -> 0 | AI41: =COMPILATORE!AC35 -> 0 | AJ41: =COMPILATORE!AD35 -> 0 | ... AS41: =COMPILATORE!AM35 -> 0
A42: 35 | E42: =H42/I42 -> #DIV/0! | F42: =8-G42 -> 8 | G42: =COUNTIF(J42:AS42,"<>0")/2 -> 0 | H42: =J42+L42+N42+P42+R42+T42+V42+X42+Z42+AB42+AD42+AF42+AH42+AJ42+AL42+AN42+AP42+AR42 -> 0 | I42: =K42+M42+O42+Q42+S42+U42+W42+Y42+AA42+AC42+AE42+AG42+AI42+AK42+AM42+AO42+AQ42+AS42 -> 0 | J42: =COMPILATORE!D36 -> 0 | K42: =COMPILATORE!E36 -> 0 | L42: =COMPILATORE!F36 -> 0 | M42: =COMPILATORE!G36 -> 0 | N42: =COMPILATORE!H36 -> 0 | O42: =COMPILATORE!I36 -> 0 | P42: =COMPILATORE!J38 -> 0 | Q42: =COMPILATORE!K36 -> 0 | R42: =COMPILATORE!L36 -> 0 | S42: =COMPILATORE!M36 -> 0 | T42: =COMPILATORE!N36 -> 0 | U42: =COMPILATORE!O36 -> 0 | V42: =COMPILATORE!P36 -> 0 | W42: =COMPILATORE!Q36 -> 0 | X42: =COMPILATORE!R36 -> 0 | ... AA42: =COMPILATORE!U36 -> 0 | AB42: =COMPILATORE!V38 -> 0 | AC42: =COMPILATORE!W36 -> 0 | AD42: =COMPILATORE!X36 -> 0 | AE42: =COMPILATORE!Y36 -> 0 | AF42: =COMPILATORE!Z36 -> 0 | AG42: =COMPILATORE!AA36 -> 0 | AH42: =COMPILATORE!AB36 -> 0 | AI42: =COMPILATORE!AC36 -> 0 | AJ42: =COMPILATORE!AD36 -> 0 | ... AS42: =COMPILATORE!AM36 -> 0
A43: 36 | E43: =H43/I43 -> #DIV/0! | F43: =8-G43 -> 8 | G43: =COUNTIF(J43:AS43,"<>0")/2 -> 0 | H43: =J43+L43+N43+P43+R43+T43+V43+X43+Z43+AB43+AD43+AF43+AH43+AJ43+AL43+AN43+AP43+AR43 -> 0 | I43: =K43+M43+O43+Q43+S43+U43+W43+Y43+AA43+AC43+AE43+AG43+AI43+AK43+AM43+AO43+AQ43+AS43 -> 0 | J43: =COMPILATORE!D37 -> 0 | K43: =COMPILATORE!E37 -> 0 | L43: =COMPILATORE!F37 -> 0 | M43: =COMPILATORE!G37 -> 0 | N43: =COMPILATORE!H37 -> 0 | O43: =COMPILATORE!I37 -> 0 | P43: =COMPILATORE!J37 -> 0 | Q43: =COMPILATORE!K37 -> 0 | ... AA43: =COMPILATORE!U37 -> 0 | AB43: =COMPILATORE!V39 -> 0 | AC43: =COMPILATORE!W37 -> 0 | AD43: =COMPILATORE!X37 -> 0 | AE43: =COMPILATORE!Y37 -> 0 | AF43: =COMPILATORE!Z37 -> 0 | AG43: =COMPILATORE!AA37 -> 0 | AH43: =COMPILATORE!AB37 -> 0 | AI43: =COMPILATORE!AC37 -> 0 | AJ43: =COMPILATORE!AD37 -> 0 | ... AS43: =COMPILATORE!AM37 -> 0
A44: 37 | E44: =H44/I44 -> #DIV/0! | F44: =8-G44 -> 8 | G44: =COUNTIF(J44:AS44,"<>0")/2 -> 0 | H44: =J44+L44+N44+P44+R44+T44+V44+X44+Z44+AB44+AD44+AF44+AH44+AJ44+AL44+AN44+AP44+AR44 -> 0 | I44: =K44+M44+O44+Q44+S44+U44+W44+Y44+AA44+AC44+AE44+AG44+AI44+AK44+AM44+AO44+AQ44+AS44 -> 0 | J44: =COMPILATORE!D38 -> 0 | K44: =COMPILATORE!E38 -> 0 | L44: =COMPILATORE!F38 -> 0 | M44: =COMPILATORE!G38 -> 0 | N44: =COMPILATORE!H38 -> 0 | O44: =COMPILATORE!I38 -> 0 | P44: =COMPILATORE!J38 -> 0 | Q44: =COMPILATORE!K38 -> 0 | ... AS44: =COMPILATORE!AM38 -> 0
A45: 38 | E45: =H45/I45 -> #DIV/0! | F45: =8-G45 -> 8 | G45: =COUNTIF(J45:AS45,"<>0")/2 -> 0 | H45: =J45+L45+N45+P45+R45+T45+V45+X45+Z45+AB45+AD45+AF45+AH45+AJ45+AL45+AN45+AP45+AR45 -> 0 | I45: =K45+M45+O45+Q45+S45+U45+W45+Y45+AA45+AC45+AE45+AG45+AI45+AK45+AM45+AO45+AQ45+AS45 -> 0 | J45: =COMPILATORE!D39 -> 0 | K45: =COMPILATORE!E39 -> 0 | L45: =COMPILATORE!F39 -> 0 | M45: =COMPILATORE!G39 -> 0 | N45: =COMPILATORE!H39 -> 0 | O45: =COMPILATORE!I39 -> 0 | P45: =COMPILATORE!J39 -> 0 | Q45: =COMPILATORE!K39 -> 0 | ... AS45: =COMPILATORE!AM39 -> 0
A46: 39 | E46: =H46/I46 -> #DIV/0! | F46: =8-G46 -> 8 | G46: =COUNTIF(J46:AS46,"<>0")/2 -> 0 | H46: =J46+L46+N46+P46+R46+T46+V46+X46+Z46+AB46+AD46+AF46+AH46+AJ46+AL46+AN46+AP46+AR46 -> 0 | I46: =K46+M46+O46+Q46+S46+U46+W46+Y46+AA46+AC46+AE46+AG46+AI46+AK46+AM46+AO46+AQ46+AS46 -> 0 | J46: =COMPILATORE!D40 -> 0 | K46: =COMPILATORE!E40 -> 0 | L46: =COMPILATORE!F40 -> 0 | M46: =COMPILATORE!G40 -> 0 | N46: =COMPILATORE!H40 -> 0 | O46: =COMPILATORE!I40 -> 0 | P46: =COMPILATORE!J40 -> 0 | Q46: =COMPILATORE!K40 -> 0 | ... AS46: =COMPILATORE!AM40 -> 0
A47: 40 | E47: =H47/I47 -> #DIV/0! | F47: =8-G47 -> 8 | G47: =COUNTIF(J47:AS47,"<>0")/2 -> 0 | H47: =J47+L47+N47+P47+R47+T47+V47+X47+Z47+AB47+AD47+AF47+AH47+AJ47+AL47+AN47+AP47+AR47 -> 0 | I47: =K47+M47+O47+Q47+S47+U47+W47+Y47+AA47+AC47+AE47+AG47+AI47+AK47+AM47+AO47+AQ47+AS47 -> 0 | J47: =COMPILATORE!D41 -> 0 | K47: =COMPILATORE!E41 -> 0 | L47: =COMPILATORE!F41 -> 0 | M47: =COMPILATORE!G41 -> 0 | N47: =COMPILATORE!H41 -> 0 | O47: =COMPILATORE!I41 -> 0 | P47: =COMPILATORE!J41 -> 0 | Q47: =COMPILATORE!K41 -> 0 | ... AS47: =COMPILATORE!AM41 -> 0
A48: 41 | E48: =H48/I48 -> #DIV/0! | F48: =8-G48 -> 8 | G48: =COUNTIF(J48:AS48,"<>0")/2 -> 0 | H48: =J48+L48+N48+P48+R48+T48+V48+X48+Z48+AB48+AD48+AF48+AH48+AJ48+AL48+AN48+AP48+AR48 -> 0 | I48: =K48+M48+O48+Q48+S48+U48+W48+Y48+AA48+AC48+AE48+AG48+AI48+AK48+AM48+AO48+AQ48+AS48 -> 0 | J48: =COMPILATORE!D42 -> 0 | K48: =COMPILATORE!E42 -> 0 | L48: =COMPILATORE!F42 -> 0 | M48: =COMPILATORE!G42 -> 0 | N48: =COMPILATORE!H42 -> 0 | O48: =COMPILATORE!I42 -> 0 | P48: =COMPILATORE!J42 -> 0 | Q48: =COMPILATORE!K42 -> 0 | ... AS48: =COMPILATORE!AM42 -> 0
A49: 42 | E49: =H49/I49 -> #DIV/0! | F49: =8-G49 -> 8 | G49: =COUNTIF(J49:AS49,"<>0")/2 -> 0 | H49: =J49+L49+N49+P49+R49+T49+V49+X49+Z49+AB49+AD49+AF49+AH49+AJ49+AL49+AN49+AP49+AR49 -> 0 | I49: =K49+M49+O49+Q49+S49+U49+W49+Y49+AA49+AC49+AE49+AG49+AI49+AK49+AM49+AO49+AQ49+AS49 -> 0 | J49: =COMPILATORE!D43 -> 0 | K49: =COMPILATORE!E43 -> 0 | L49: =COMPILATORE!F43 -> 0 | M49: =COMPILATORE!G43 -> 0 | N49: =COMPILATORE!H43 -> 0 | O49: =COMPILATORE!I43 -> 0 | P49: =COMPILATORE!J43 -> 0 | Q49: =COMPILATORE!K43 -> 0 | ... AS49: =COMPILATORE!AM43 -> 0
A50: 43 | E50: =H50/I50 -> #DIV/0! | F50: =8-G50 -> 8 | G50: =COUNTIF(J50:AS50,"<>0")/2 -> 0 | H50: =J50+L50+N50+P50+R50+T50+V50+X50+Z50+AB50+AD50+AF50+AH50+AJ50+AL50+AN50+AP50+AR50 -> 0 | I50: =K50+M50+O50+Q50+S50+U50+W50+Y50+AA50+AC50+AE50+AG50+AI50+AK50+AM50+AO50+AQ50+AS50 -> 0 | J50: =COMPILATORE!D44 -> 0 | K50: =COMPILATORE!E44 -> 0 | L50: =COMPILATORE!F44 -> 0 | M50: =COMPILATORE!G44 -> 0 | N50: =COMPILATORE!H44 -> 0 | O50: =COMPILATORE!I44 -> 0 | P50: =COMPILATORE!J44 -> 0 | Q50: =COMPILATORE!K44 -> 0 | ... AS50: =COMPILATORE!AM44 -> 0
A51: 44 | E51: =H51/I51 -> #DIV/0! | F51: =8-G51 -> 8 | G51: =COUNTIF(J51:AS51,"<>0")/2 -> 0 | H51: =J51+L51+N51+P51+R51+T51+V51+X51+Z51+AB51+AD51+AF51+AH51+AJ51+AL51+AN51+AP51+AR51 -> 0 | I51: =K51+M51+O51+Q51+S51+U51+W51+Y51+AA51+AC51+AE51+AG51+AI51+AK51+AM51+AO51+AQ51+AS51 -> 0 | J51: =COMPILATORE!D45 -> 0 | K51: =COMPILATORE!E45 -> 0 | L51: =COMPILATORE!F45 -> 0 | M51: =COMPILATORE!G45 -> 0 | N51: =COMPILATORE!H45 -> 0 | O51: =COMPILATORE!I45 -> 0 | P51: =COMPILATORE!J45 -> 0 | Q51: =COMPILATORE!K45 -> 0 | ... AS51: =COMPILATORE!AM45 -> 0
A52: 45 | E52: =H52/I52 -> #DIV/0! | F52: =8-G52 -> 8 | G52: =COUNTIF(J52:AS52,"<>0")/2 -> 0 | H52: =J52+L52+N52+P52+R52+T52+V52+X52+Z52+AB52+AD52+AF52+AH52+AJ52+AL52+AN52+AP52+AR52 -> 0 | I52: =K52+M52+O52+Q52+S52+U52+W52+Y52+AA52+AC52+AE52+AG52+AI52+AK52+AM52+AO52+AQ52+AS52 -> 0 | J52: =COMPILATORE!D46 -> 0 | K52: =COMPILATORE!E46 -> 0 | L52: =COMPILATORE!F46 -> 0 | M52: =COMPILATORE!G46 -> 0 | N52: =COMPILATORE!H46 -> 0 | O52: =COMPILATORE!I46 -> 0 | P52: =COMPILATORE!J46 -> 0 | Q52: =COMPILATORE!K46 -> 0 | ... AS52: =COMPILATORE!AM46 -> 0
A53: 46 | E53: =H53/I53 -> #DIV/0! | F53: =8-G53 -> 8 | G53: =COUNTIF(J53:AS53,"<>0")/2 -> 0 | H53: =J53+L53+N53+P53+R53+T53+V53+X53+Z53+AB53+AD53+AF53+AH53+AJ53+AL53+AN53+AP53+AR53 -> 0 | I53: =K53+M53+O53+Q53+S53+U53+W53+Y53+AA53+AC53+AE53+AG53+AI53+AK53+AM53+AO53+AQ53+AS53 -> 0 | J53: =COMPILATORE!D47 -> 0 | K53: =COMPILATORE!E47 -> 0 | L53: =COMPILATORE!F47 -> 0 | M53: =COMPILATORE!G47 -> 0 | N53: =COMPILATORE!H47 -> 0 | O53: =COMPILATORE!I47 -> 0 | P53: =COMPILATORE!J47 -> 0 | Q53: =COMPILATORE!K47 -> 0 | ... AS53: =COMPILATORE!AM47 -> 0
A54: 47 | E54: =H54/I54 -> #DIV/0! | F54: =8-G54 -> 8 | G54: =COUNTIF(J54:AS54,"<>0")/2 -> 0 | H54: =J54+L54+N54+P54+R54+T54+V54+X54+Z54+AB54+AD54+AF54+AH54+AJ54+AL54+AN54+AP54+AR54 -> 0 | I54: =K54+M54+O54+Q54+S54+U54+W54+Y54+AA54+AC54+AE54+AG54+AI54+AK54+AM54+AO54+AQ54+AS54 -> 0 | J54: =COMPILATORE!D48 -> 0 | K54: =COMPILATORE!E48 -> 0 | L54: =COMPILATORE!F48 -> 0 | M54: =COMPILATORE!G48 -> 0 | N54: =COMPILATORE!H48 -> 0 | O54: =COMPILATORE!I48 -> 0 | P54: =COMPILATORE!J48 -> 0 | Q54: =COMPILATORE!K48 -> 0 | ... AS54: =COMPILATORE!AM48 -> 0
A55: 48 | E55: =H55/I55 -> #DIV/0! | F55: =8-G55 -> 8 | G55: =COUNTIF(J55:AS55,"<>0")/2 -> 0 | H55: =J55+L55+N55+P55+R55+T55+V55+X55+Z55+AB55+AD55+AF55+AH55+AJ55+AL55+AN55+AP55+AR55 -> 0 | I55: =K55+M55+O55+Q55+S55+U55+W55+Y55+AA55+AC55+AE55+AG55+AI55+AK55+AM55+AO55+AQ55+AS55 -> 0 | J55: =COMPILATORE!D49 -> 0 | K55: =COMPILATORE!E49 -> 0 | L55: =COMPILATORE!F49 -> 0 | M55: =COMPILATORE!G49 -> 0 | N55: =COMPILATORE!H49 -> 0 | O55: =COMPILATORE!I49 -> 0 | P55: =COMPILATORE!J49 -> 0 | Q55: =COMPILATORE!K49 -> 0 | ... AS55: =COMPILATORE!AM49 -> 0
... A57: 50 | E57: =H57/I57 -> #DIV/0! | F57: =8-G57 -> 8 | G57: =COUNTIF(J57:AS57,"<>0")/2 -> 0 | H57: =J57+L57+N57+P57+R57+T57+V57+X57+Z57+AB57+AD57+AF57+AH57+AJ57+AL57+AN57+AP57+AR57 -> 0 | I57: =K57+M57+O57+Q57+S57+U57+W57+Y57+AA57+AC57+AE57+AG57+AI57+AK57+AM57+AO57+AQ57+AS57 -> 0 | J57: =COMPILATORE!D51 -> 0 | K57: =COMPILATORE!E51 -> 0 | L57: =COMPILATORE!F51 -> 0 | M57: =COMPILATORE!G51 -> 0 | N57: =COMPILATORE!H51 -> 0 | O57: =COMPILATORE!I51 -> 0 | P57: =COMPILATORE!J51 -> 0 | Q57: =COMPILATORE!K51 -> 0 | ... AS57: =COMPILATORE!AM51 -> 0
J58: 1 | L58: 2 | N58: 3° | P58: 4° | R58: 5° | T58: 6° | V58: 7° | X58: 8° | Z58: 9° | AB58: 10° | AD58: 11° | AF58: H6 | AH58: 1 GP | AJ58: 2 GP | AL58: 3 GP | AN58: Coppa I | AP58: GRANDE GARA | AR58: FCI

Sheet COMPILATORE
C1: Lasciare in ordine alfabetico
D2: 1 | F2: 2 | H2: 3 | J2: 4 | L2: 5 | N2: 6 | P2: 7 | R2: 8 | T2: 9 | V2: 10 | X2: 11 | Z2: 12 | AB2: 1 gp | AD2: 2 gp | AF2: 3-4 gp | AH2: Gold Cup | AJ2: grandi gare | AL2: FCI
C3: TIRATORI | D3: P | E3: S | F3: P | G3: S | H3: P | I3: S | J3: P | K3: S | L3: P | M3: S | N3: P | O3: S | P3: P | Q3: S | R3: P | S3: S | T3: P | U3: S | V3: P | W3: S | X3: P | Y3: S | Z3: P | AA3: S | AB3: P | AC3: S | AD3: P | AE3: S | AF3: P | AG3: S | AH3: p | AI3: s | AJ3: p | AK3: s | AL3: p | AM3: g
B4: 1 | C4: Amato Pietro | D4: 0 | E4: 0 | F4: 0 | G4: 0 | H4: 24 | I4: 2 | J4: 21 | K4: 2 | L4: 35 | M4: 2 | N4: 0 | O4: 0 | P4: 0 | Q4: 0 | R4: 0 | S4: 0 | T4: 0 | U4: 0 | V4: 0 | W4: 0 | X4: 0 | Y4: 0 | Z4: 0 | AA4: 0 | AB4: 0 | AC4: 0 | AD4: 0 | AE4: 0 | AF4: 0 | AG4: 0 | AH4: 0 | AI4: 0 | AJ4: 0 | AK4: 0 | AL4: 0 | AM4: 0
B5: 2 | C5: Bernasconi Gabriele | D5: 40.66 | E5: 2 | F5: 45 | G5: 2 | H5: 45 | I5: 2 | J5: 47 | K5: 2 | L5: 44 | M5: 2 | N5: 49 | O5: 2 | P5: 46.666 | Q5: 2 | R5: 0 | S5: 0 | T5: 0 | U5: 0 | V5: 0 | W5: 0 | X5: 0 | Y5: 0 | Z5: 0 | AA5: 0 | AB5: 0 | AC5: 0 | AD5: 0 | AE5: 0 | AF5: 0 | AG5: 0 | AH5: 46 | AI5: 2 | AJ5: 0 | AK5: 0 | AL5: 0 | AM5: 0
B6: 3 | C6: Bruzzese Matteo | D6: 35.33 | E6: 2 | F6: 41 | G6: 2 | H6: 44 | I6: 2 | J6: 42 | K6: 2 | L6: 46 | M6: 2 | N6: 33 | O6: 2 | P6: 41.333 | Q6: 2 | R6: 0 | S6: 0 | T6: 0 | U6: 0 | V6: 0 | W6: 0 | X6: 0 | Y6: 0 | Z6: 0 | AA6: 0 | AB6: 0 | AC6: 0 | AD6: 0 | AE6: 0 | AF6: 0 | AG6: 0 | AH6: 0 | AI6: 0 | AJ6: 0 | AK6: 0 | AL6: 0 | AM6: 0
B7: 4 | C7: Caporuscio Federica | D7: 40 | E7: 2 | F7: 43 | G7: 2 | H7: 48 | I7: 2 | J7: 43 | K7: 2 | L7: 43 | M7: 2 | N7: 44 | O7: 2 | P7: 42.666 | Q7: 2 | R7: 0 | S7: 0 | T7: 0 | U7: 0 | V7: 0 | W7: 0 | X7: 0 | Y7: 0 | Z7: 0 | AA7: 0 | AB7: 0 | AC7: 0 | AD7: 0 | AE7: 0 | AF7: 0 | AG7: 0 | AH7: 0 | AI7: 0 | AJ7: 0 | AK7: 0 | AL7: 0 | AM7: 0
B8: 5 | C8: D'aversa Fabio | D8: 28.66 | E8: 2 | F8: 0 | G8: 0 | H8: 0 | I8: 0 | J8: 35 | K8: 2 | L8: 30 | M8: 2 | N8: 32 | O8: 2 | P8: 35.333 | Q8: 2 | R8: 0 | S8: 0 | T8: 0 | U8: 0 | V8: 0 | W8: 0 | X8: 0 | Y8: 0 | Z8: 0 | AA8: 0 | AB8: 0 | AC8: 0 | AD8: 0 | AE8: 0 | AF8: 0 | AG8: 0 | AH8: 0 | AI8: 0 | AJ8: 0 | AK8: 0 | AL8: 0 | AM8: 0
B9: 6 | C9: Del Priore Fabbrizio | D9: 0 | E9: 0 | F9: 25 | G9: 2 | H9: 0 | I9: 0 | J9: 0 | K9: 0 | L9: 0 | M9: 0 | N9: 0 | O9: 0 | P9: 0 | Q9: 0 | R9: 0 | S9: 0 | T9: 0 | U9: 0 | V9: 0 | W9: 0 | X9: 0 | Y9: 0 | Z9: 0 | AA9: 0 | AB9: 0 | AC9: 0 | AD9: 0 | AE9: 0 | AF9: 0 | AG9: 0 | AH9: 0 | AI9: 0 | AJ9: 0 | AK9: 0 | AL9: 0 | AM9: 0
B10: 7 | C10: Iozzia Massimiliano | D10: 34.66 | E10: 2 | F10: 31 | G10: 2 | H10: 39 | I10: 2 | J10: 39 | K10: 2 | L10: 37 | M10: 2 | N10: 0 | O10: 0 | P10: 37.333 | Q10: 2 | R10: 0 | S10: 0 | T10: 0 | U10: 0 | V10: 0 | W10: 0 | X10: 0 | Y10: 0 | Z10: 0 | AA10: 0 | AB10: 0 | AC10: 0 | AD10: 0 | AE10: 0 | AF10: 0 | AG10: 0 | AH10: 0 | AI10: 0 | AJ10: 0 | AK10: 0 | AL10: 0 | AM10: 0
B11: 8 | C11: Libertai Luciano | D11: 33.33 | E11: 2 | F11: 28 | G11: 2 | H11: 40 | I11: 2 | J11: 40 | K11: 2 | L11: 0 | M11: 0 | N11: 0 | O11: 0 | P11: 0 | Q11: 0 | R11: 0 | S11: 0 | T11: 0 | U11: 0 | V11: 0 | W11: 0 | X11: 0 | Y11: 0 | Z11: 0 | AA11: 0 | AB11: 0 | AC11: 0 | AD11: 0 | AE11: 0 | AF11: 0 | AG11: 0 | AH11: 0 | AI11: 0 | AJ11: 0 | AK11: 0 | AL11: 0 | AM11: 0
B12: 9 | C12: Lizzio Giovanni | D12: 34 | E12: 2 | F12: 30 | G12: 2 | H12: 0 | I12: 0 | J12: 32 | K12: 2 | L12: 30 | M12: 2 | N12: 0 | O12: 0 | P12: 0 | Q12: 0 | R12: 0 | S12: 0 | T12: 0 | U12: 0 | V12: 0 | W12: 0 | X12: 0 | Y12: 0 | Z12: 0 | AA12: 0 | AB12: 0 | AC12: 0 | AD12: 0 | AE12: 0 | AF12: 0 | AG12: 0 | AH12: 0 | AI12: 0 | AJ12: 0 | AK12: 0 | AL12: 0 | AM12: 0
B13: 10 | C13: Mancini Roberto | D13: 36 | E13: 2 | F13: 37 | G13: 2 | H13: 37 | I13: 2 | J13: 41 | K13: 2 | L13: 0 | M13: 0 | N13: 37 | O13: 2 | P13: 0 | Q13: 0 | R13: 0 | S13: 0 | T13: 0 | U13: 0 | V13: 0 | W13: 0 | X13: 0 | Y13: 0 | Z13: 0 | AA13: 0 | AB13: 0 | AC13: 0 | AD13: 38.5 | AE13: 2 | AF13: 38.5 | AG13: 2 | AH13: 0 | AI13: 0 | AJ13: 0 | AK13: 0 | AL13: 0 | AM13: 0
B14: 11 | C14: Mastrangelo Claudio | D14: 27.33 | E14: 2 | F14: 0 | G14: 0 | H14: 24 | I14: 2 | J14: 0 | K14: 0 | L14: 0 | M14: 0 | N14: 0 | O14: 0 | P14: 36 | Q14: 2 | R14: 0 | S14: 0 | T14: 0 | U14: 0 | V14: 0 | W14: 0 | X14: 0 | Y14: 0 | Z14: 0 | AA14: 0 | AB14: 0 | AC14: 0 | AD14: 0 | AE14: 0 | AF14: 0 | AG14: 0 | AH14: 0 | AI14: 0 | AJ14: 0 | AK14: 0 | AL14: 0 | AM14: 0
B15: 12 | C15: Mattei Valentino | D15: 0 | E15: 0 | F15: 0 | G15: 0 | H15: 0 | I15: 0 | J15: 0 | K15: 0 | L15: 0 | M15: 0 | N15: 0 | O15: 0 | P15: 0 | Q15: 0 | R15: 0 | S15: 0 | T15: 0 | U15: 0 | V15: 0 | W15: 0 | X15: 0 | Y15: 0 | Z15: 0 | AA15: 0 | AB15: 0 | AC15: 0 | AD15: 0 | AE15: 0 | AF15: 0 | AG15: 0 | AH15: 0 | AI15: 0 | AJ15: 0 | AK15: 0 | AL15: 0 | AM15: 0
... B22: 19 | C22: Ricciardi Sandro | D22: 33.33 | E22: 2 | F22: 0 | G22: 0 | H22: 37 | I22: 2 | J22: 38 | K22: 2 | L22: 37 | M22: 2 | N22: 37 | O22: 2 | P22: 42.666 | Q22: 2 | R22: 0 | S22: 0 | T22: 0 | U22: 0 | V22: 0 | W22: 0 | X22: 0 | Y22: 0 | Z22: 0 | AA22: 0 | AB22: 0 | AC22: 0 | AD22: 0 | AE22: 0 | AF22: 0 | AG22: 0 | AH22: 0 | AI22: 0 | AJ22: 0 | AK22: 0 | AL22: 0 | AM22: 0
B23: 20 | C23: Sabatini Patrizio | D23: 34 | E23: 2 | F23: 30 | G23: 2 | H23: 41 | I23: 2 | J23: 39 | K23: 2 | L23: 0 | M23: 0 | N23: 30 | O23: 2 | P23: 40 | Q23: 2 | R23: 0 | S23: 0 | T23: 0 | U23: 0 | V23: 0 | W23: 0 | X23: 0 | Y23: 0 | Z23: 0 | AA23: 0 | AB23: 0 | AC23: 0 | AD23: 0 | AE23: 0 | AF23: 0 | AG23: 0 | AH23: 0 | AI23: 0 | AJ23: 0 | AK23: 0 | AL23: 0 | AM23: 0 | AO23: FIOCCHI DAY
B24: 21 | C24: Santini Marco | D24: 42 | E24: 2 | F24: 39 | G24: 2 | H24: 0 | I24: 0 | J24: 43 | K24: 2 | L24: 48 | M24: 2 | N24: 44 | O24: 2 | P24: 0 | Q24: 0 | R24: 0 | S24: 0 | T24: 0 | U24: 0 | V24: 0 | W24: 0 | X24: 0 | Y24: 0 | Z24: 0 | AA24: 0 | AB24: 0 | AC24: 0 | AD24: 0 | AE24: 0 | AF24: 0 | AG24: 0 | AH24: 0 | AI24: 0 | AJ24: 0 | AK24: 0 | AL24: 0 | AM24: 0
B25: 22 | C25: Seri Caludio | D25: 32.66 | E25: 2 | F25: 19 | G25: 2 | H25: 0 | I25: 0 | J25: 33 | K25: 2 | L25: 0 | M25: 0 | N25: 0 | O25: 0 | P25: 0 | Q25: 0 | R25: 0 | S25: 0 | T25: 0 | U25: 0 | V25: 0 | W25: 0 | X25: 0 | Y25: 0 | Z25: 0 | AA25: 0 | AB25: 0 | AC25: 0 | AD25: 0 | AE25: 0 | AF25: 0 | AG25: 0 | AH25: 0 | AI25: 0 | AJ25: 0 | AK25: 0 | AL25: 0 | AM25: 0
B26: 23 | C26: Spini Flavio | D26: 0 | E26: 0 | F26: 0 | G26: 0 | H26: 0 | I26: 0 | J26: 0 | K26: 0 | L26: 0 | M26: 0 | N26: 0 | O26: 0 | P26: 0 | Q26: 0 | R26: 0 | S26: 0 | T26: 0 | U26: 0 | V26: 0 | W26: 0 | X26: 0 | Y26: 0 | Z26: 0 | AA26: 0 | AB26: 0 | AC26: 0 | AD26: 0 | AE26: 0 | AF26: 0 | AG26: 0 | AH26: 0 | AI26: 0 | AJ26: 0 | AK26: 0 | AL26: 0 | AM26: 0
B27: 24 | C27: Tarchini Giacomo | D27: 47.33 | E27: 2 | F27: 0 | G27: 0 | H27: 0 | I27: 0 | J27: 45 | K27: 2 | L27: 0 | M27: 0 | N27: 0 | O27: 0 | P27: 0 | Q27: 0 | R27: 0 | S27: 0 | T27: 0 | U27: 0 | V27: 0 | W27: 0 | X27: 0 | Y27: 0 | Z27: 0 | AA27: 0 | AB27: 46.8 | AC27: 0 | AD27: 0 | AE27: 0 | AF27: 48 | AG27: 2 | AH27: 46.85 | AI27: 2 | AJ27: 0 | AK27: 0 | AL27: 0 | AM27: 0
B28: 25 | D28: 0 | E28: 0 | F28: 0 | G28: 0 | H28: 0 | I28: 0 | J28: 0 | K28: 0 | L28: 0 | M28: 0 | N28: 0 | O28: 0 | P28: 0 | Q28: 0 | R28: 0 | S28: 0 | T28: 0 | U28: 0 | V28: 0 | W28: 0 | X28: 0 | Y28: 0 | Z28: 0 | AA28: 0 | AB28: 0 | AC28: 0 | AD28: 0 | AE28: 0 | AF28: 0 | AG28: 0 | AH28: 0 | AI28: 0 | AJ28: 0 | AK28: 0 | AL28: 0 | AM28: 0
B29: 28 | D29: 0 | E29: 0 | F29: 0 | G29: 0 | H29: 0 | I29: 0 | J29: 0 | K29: 0 | L29: 0 | M29: 0 | N29: 0 | O29: 0 | P29: 0 | Q29: 0 | R29: 0 | S29: 0 | T29: 0 | U29: 0 | V29: 0 | W29: 0 | X29: 0 | Y29: 0 | Z29: 0 | AA29: 0 | AB29: 0 | AC29: 0 | AD29: 0 | AE29: 0 | AF29: 0 | AG29: 0 | AH29: 0 | AI29: 0 | AJ29: 0 | AK29: 0 | AL29: 0 | AM29: 0
B30: 29 | D30: 0 | E30: 0 | F30: 0 | G30: 0 | H30: 0 | I30: 0 | J30: 0 | K30: 0 | L30: 0 | M30: 0 | N30: 0 | O30: 0 | P30: 0 | Q30: 0 | R30: 0 | S30: 0 | T30: 0 | U30: 0 | V30: 0 | W30: 0 | X30: 0 | Y30: 0 | Z30: 0 | AA30: 0 | AB30: 0 | AC30: 0 | AD30: 0 | AE30: 0 | AF30: 0 | AG30: 0 | AH30: 0 | AI30: 0 | AJ30: 0 | AK30: 0 | AL30: 0 | AM30: 0
B31: 30 | D31: 0 | E31: 0 | F31: 0 | G31: 0 | H31: 0 | I31: 0 | J31: 0 | K31: 0 | L31: 0 | M31: 0 | N31: 0 | O31: 0 | P31: 0 | Q31: 0 | R31: 0 | S31: 0 | T31: 0 | U31: 0 | V31: 0 | W31: 0 | X31: 0 | Y31: 0 | Z31: 0 | AA31: 0 | AB31: 0 | AC31: 0 | AD31: 0 | AE31: 0 | AF31: 0 | AG31: 0 | AH31: 0 | AI31: 0 | AJ31: 0 | AK31: 0 | AL31: 0 | AM31: 0
B32: 31 | D32: 0 | E32: 0 | F32: 0 | G32: 0 | H32: 0 | I32: 0 | J32: 0 | K32: 0 | L32: 0 | M32: 0 | N32: 0 | O32: 0 | P32: 0 | Q32: 0 | R32: 0 | S32: 0 | T32: 0 | U32: 0 | V32: 0 | W32: 0 | X32: 0 | Y32: 0 | Z32: 0 | AA32: 0 | AB32: 0 | AC32: 0 | AD32: 0 | AE32: 0 | AF32: 0 | AG32: 0 | AH32: 0 | AI32: 0 | AJ32: 0 | AK32: 0 | AL32: 0 | AM32: 0
B33: 32 | D33: 0 | E33: 0 | F33: 0 | G33: 0 | H33: 0 | I33: 0 | J33: 0 | K33: 0 | L33: 0 | M33: 0 | N33: 0 | O33: 0 | P33: 0 | Q33: 0 | R33: 0 | S33: 0 | T33: 0 | U33: 0 | V33: 0 | W33: 0 | X33: 0 | Y33: 0 | Z33: 0 | AA33: 0 | AB33: 0 | AC33: 0 | AD33: 0 | AE33: 0 | AF33: 0 | AG33: 0 | AH33: 0 | AI33: 0 | AJ33: 0 | AK33: 0 | AL33: 0 | AM33: 0
B34: 33 | D34: 0 | E34: 0 | F34: 0 | G34: 0 | H34: 0 | I34: 0 | J34: 0 | K34: 0 | L34: 0 | M34: 0 | N34: 0 | O34: 0 | P34: 0 | Q34: 0 | R34: 0 | S34: 0 | T34: 0 | U34: 0 | V34: 0 | W34: 0 | X34: 0 | Y34: 0 | Z34: 0 | AA34: 0 | AB34: 0 | AC34: 0 | AD34: 0 | AE34: 0 | AF34: 0 | AG34: 0 | AH34: 0 | AI34: 0 | AJ34: 0 | AK34: 0 | AL34: 0 | AM34: 0
B35: 34 | D35: 0 | E35: 0 | F35: 0 | G35: 0 | H35: 0 | I35: 0 | J35: 0 | K35: 0 | L35: 0 | M35: 0 | N35: 0 | O35: 0 | P35: 0 | Q35: 0 | R35: 0 | S35: 0 | T35: 0 | U35: 0 | V35: 0 | W35: 0 | X35: 0 | Y35: 0 | Z35: 0 | AA35: 0 | AB35: 0 | AC35: 0 | AD35: 0 | AE35: 0 | AF35: 0 | AG35: 0 | AH35: 0 | AI35: 0 | AJ35: 0 | AK35: 0 | AL35: 0 | AM35: 0
B36: 35 | D36: 0 | E36: 0 | F36: 0 | G36: 0 | H36: 0 | I36: 0 | J36: 0 | K36: 0 | L36: 0 | M36: 0 | N36: 0 | O36: 0 | P36: 0 | Q36: 0 | R36: 0 | S36: 0 | T36: 0 | U36: 0 | V36: 0 | W36: 0 | X36: 0 | Y36: 0 | Z36: 0 | AA36: 0 | AB36: 0 | AC36: 0 | AD36: 0 | AE36: 0 | AF36: 0 | AG36: 0 | AH36: 0 | AI36: 0 | AJ36: 0 | AK36: 0 | AL36: 0 | AM36: 0
B37: 36 | D37: 0 | E37: 0 | F37: 0 | G37: 0 | H37: 0 | I37: 0 | J37: 0 | K37: 0 | L37: 0 | M37: 0 | N37: 0 | O37: 0 | P37: 0 | Q37: 0 | R37: 0 | S37: 0 | T37: 0 | U37: 0 | V37: 0 | W37: 0 | X37: 0 | Y37: 0 | Z37: 0 | AA37: 0 | AB37: 0 | AC37: 0 | AD37: 0 | AE37: 0 | AF37: 0 | AG37: 0 | AH37: 0 | AI37: 0 | AJ37: 0 | AK37: 0 | AL37: 0 | AM37: 0
B38: 37 | D38: 0 | E38: 0 | F38: 0 | G38: 0 | H38: 0 | I38: 0 | J38: 0 | K38: 0 | L38: 0 | M38: 0 | N38: 0 | O38: 0 | P38: 0 | Q38: 0 | R38: 0 | S38: 0 | T38: 0 | U38: 0 | V38: 0 | W38: 0 | X38: 0 | Y38: 0 | Z38: 0 | AA38: 0 | AB38: 0 | AC38: 0 | AD38: 0 | AE38: 0 | AF38: 0 | AG38: 0 | AH38: 0 | AI38: 0 | AJ38: 0 | AK38: 0 | AL38: 0 | AM38: 0
B39: 38 | D39: 0 | E39: 0 | F39: 0 | G39: 0 | H39: 0 | I39: 0 | J39: 0 | K39: 0 | L39: 0 | M39: 0 | N39: 0 | O39: 0 | P39: 0 | Q39: 0 | R39: 0 | S39: 0 | T39: 0 | U39: 0 | V39: 0 | W39: 0 | X39: 0 | Y39: 0 | Z39: 0 | AA39: 0 | AB39: 0 | AC39: 0 | AD39: 0 | AE39: 0 | AF39: 0 | AG39: 0 | AH39: 0 | AI39: 0 | AJ39: 0 | AK39: 0 | AL39: 0 | AM39: 0
B40: 39 | D40: 0 | E40: 0 | F40: 0 | G40: 0 | H40: 0 | I40: 0 | J40: 0 | K40: 0 | L40: 0 | M40: 0 | N40: 0 | O40: 0 | P40: 0 | Q40: 0 | R40: 0 | S40: 0 | T40: 0 | U40: 0 | V40: 0 | W40: 0 | X40: 0 | Y40: 0 | Z40: 0 | AA40: 0 | AB40: 0 | AC40: 0 | AD40: 0 | AE40: 0 | AF40: 0 | AG40: 0 | AH40: 0 | AI40: 0 | AJ40: 0 | AK40: 0 | AL40: 0 | AM40: 0
D41: 0 | E41: 0 | F41: 0 | G41: 0 | H41: 0 | I41: 0 | J41: 0 | K41: 0 | L41: 0 | M41: 0 | N41: 0 | O41: 0 | P41: 0 | Q41: 0 | R41: 0 | S41: 0 | T41: 0 | U41: 0 | V41: 0 | W41: 0 | X41: 0 | Y41: 0 | Z41: 0 | AA41: 0 | AB41: 0 | AC41: 0 | AD41: 0 | AE41: 0 | AF41: 0 | AG41: 0 | AH41: 0 | AI41: 0 | AJ41: 0 | AK41: 0 | AL41: 0 | AM41: 0
D42: 0 | E42: 0 | F42: 0 | G42: 0 | H42: 0 | I42: 0 | J42: 0 | K42: 0 | L42: 0 | M42: 0 | N42: 0 | O42: 0 | P42: 0 | Q42: 0 | R42: 0 | S42: 0 | T42: 0 | U42: 0 | V42: 0 | W42: 0 | X42: 0 | Y42: 0 | Z42: 0 | AA42: 0 | AB42: 0 | AC42: 0 | AD42: 0 | AE42: 0 | AF42: 0 | AG42: 0 | AH42: 0 | AI42: 0 | AJ42: 0 | AK42: 0 | AL42: 0 | AM42: 0
D43: 0 | E43: 0 | F43: 0 | G43: 0 | H43: 0 | I43: 0 | J43: 0 | K43: 0 | L43: 0 | M43: 0 | N43: 0 | O43: 0 | P43: 0 | Q43: 0 | R43: 0 | S43: 0 | T43: 0 | U43: 0 | V43: 0 | W43: 0 | X43: 0 | Y43: 0 | Z43: 0 | AA43: 0 | AB43: 0 | AC43: 0 | AD43: 0 | AE43: 0 | AF43: 0 | AG43: 0 | AH43: 0 | AI43: 0 | AJ43: 0 | AK43: 0 | AL43: 0 | AM43: 0
B44: 40 | D44: 0 | E44: 0 | F44: 0 | G44: 0 | H44: 0 | I44: 0 | J44: 0 | K44: 0 | L44: 0 | M44: 0 | N44: 0 | O44: 0 | P44: 0 | Q44: 0 | R44: 0 | S44: 0 | T44: 0 | U44: 0 | V44: 0 | W44: 0 | X44: 0 | Y44: 0 | Z44: 0 | AA44: 0 | AB44: 0 | AC44: 0 | AD44: 0 | AE44: 0 | AF44: 0 | AG44: 0 | AH44: 0 | AI44: 0 | AJ44: 0 | AK44: 0 | AL44: 0 | AM44: 0
B45: 41 | D45: 0 | E45: 0 | F45: 0 | G45: 0 | H45: 0 | I45: 0 | J45: 0 | K45: 0 | L45: 0 | M45: 0 | N45: 0 | O45: 0 | P45: 0 | Q45: 0 | R45: 0 | S45: 0 | T45: 0 | U45: 0 | V45: 0 | W45: 0 | X45: 0 | Y45: 0 | Z45: 0 | AA45: 0 | AB45: 0 | AC45: 0 | AD45: 0 | AE45: 0 | AF45: 0 | AG45: 0 | AH45: 0 | AI45: 0 | AJ45: 0 | AK45: 0 | AL45: 0 | AM45: 0
B46: 42 | D46: 0 | E46: 0 | F46: 0 | G46: 0 | H46: 0 | I46: 0 | J46: 0 | K46: 0 | L46: 0 | M46: 0 | N46: 0 | O46: 0 | P46: 0 | Q46: 0 | R46: 0 | S46: 0 | T46: 0 | U46: 0 | V46: 0 | W46: 0 | X46: 0 | Y46: 0 | Z46: 0 | AA46: 0 | AB46: 0 | AC46: 0 | AD46: 0 | AE46: 0 | AF46: 0 | AG46: 0 | AH46: 0 | AI46: 0 | AJ46: 0 | AK46: 0 | AL46: 0 | AM46: 0
B47: 43 | D47: 0 | E47: 0 | F47: 0 | G47: 0 | H47: 0 | I47: 0 | J47: 0 | K47: 0 | L47: 0 | M47: 0 | N47: 0 | O47: 0 | P47: 0 | Q47: 0 | R47: 0 | S47: 0 | T47: 0 | U47: 0 | V47: 0 | W47: 0 | X47: 0 | Y47: 0 | Z47: 0 | AA47: 0 | AB47: 0 | AC47: 0 | AD47: 0 | AE47: 0 | AF47: 0 | AG47: 0 | AH47: 0 | AI47: 0 | AJ47: 0 | AK47: 0 | AL47: 0 | AM47: 0
B48: 44 | D48: 0 | E48: 0 | F48: 0 | G48: 0 | H48: 0 | I48: 0 | J48: 0 | K48: 0 | L48: 0 | M48: 0 | N48: 0 | O48: 0 | P48: 0 | Q48: 0 | R48: 0 | S48: 0 | T48: 0 | U48: 0 | V48: 0 | W48: 0 | X48: 0 | Y48: 0 | Z48: 0 | AA48: 0 | AB48: 0 | AC48: 0 | AD48: 0 | AE48: 0 | AF48: 0 | AG48: 0 | AH48: 0 | AI48: 0 | AJ48: 0 | AK48: 0 | AL48: 0 | AM48: 0
B49: 45 | D49: 0 | E49: 0 | F49: 0 | G49: 0 | H49: 0 | I49: 0 | J49: 0 | K49: 0 | L49: 0 | M49: 0 | N49: 0 | O49: 0 | P49: 0 | Q49: 0 | R49: 0 | S49: 0 | T49: 0 | U49: 0 | V49: 0 | W49: 0 | X49: 0 | Y49: 0 | Z49: 0 | AA49: 0 | AB49: 0 | AC49: 0 | AD49: 0 | AE49: 0 | AF49: 0 | AG49: 0 | AH49: 0 | AI49: 0 | AJ49: 0 | AK49: 0 | AL49: 0 | AM49: 0
B50: 46 | D50: 0 | E50: 0 | F50: 0 | G50: 0 | H50: 0 | I50: 0 | J50: 0 | K50: 0 | L50: 0 | M50: 0 | N50: 0 | O50: 0 | P50: 0 | Q50: 0 | R50: 0 | S50: 0 | T50: 0 | U50: 0 | V50: 0 | W50: 0 | X50: 0 | Y50: 0 | Z50: 0 | AA50: 0 | AB50: 0 | AC50: 0 | AD50: 0 | AE50: 0 | AF50: 0 | AG50: 0 | AH50: 0 | AI50: 0 | AJ50: 0 | AK50: 0 | AL50: 0 | AM50: 0
B51: 47 | D51: 0 | E51: 0 | F51: 0 | G51: 0 | H51: 0 | I51: 0 | J51: 0 | K51: 0 | L51: 0 | M51: 0 | N51: 0 | O51: 0 | P51: 0 | Q51: 0 | R51: 0 | S51: 0 | T51: 0 | U51: 0 | V51: 0 | W51: 0 | X51: 0 | Y51: 0 | Z51: 0 | AA51: 0 | AB51: 0 | AC51: 0 | AD51: 0 | AE51: 0 | AF51: 0 | AG51: 0 | AH51: 0 | AI51: 0 | AJ51: 0 | AK51: 0 | AL51: 0 | AM51: 0
D52: =COUNTIF(E4:E51,"<>0") -> 17 | F52: =COUNTIF(G4:G50,"<>0") -> 15 | H52: =COUNTIF(I4:I50,"<>0") -> 11 | J52: =COUNTIF(K4:K50,"<>0") -> 17 | L52: =COUNTIF(M4:M51,"<>0") -> 11 | N52: =COUNTIF(O4:O51,"<>0") -> 10 | P52: =COUNTIF(Q4:Q50,"<>0") -> 8 | R52: =COUNTIF(S4:S50,"<>0") -> 0 | T52: =COUNTIF(U4:U51,"<>0") -> 0 | V52: =COUNTIF(W4:W50,"<>0") -> 0 | X52: =COUNTIF(Y4:Y50,"<>0") -> 0 | Z52: =COUNTIF(AA4:AA50,"<>0") -> 0 | AB52: =COUNTIF(AC4:AC50,"<>0") -> 0 | AD52: =COUNTIF(AE4:AE51,"<>0") -> 1 | AF52: =COUNTIF(AG4:AG50,"<>0") -> 2 | AJ52: =SUM(D52:AF52)*50 -> 4600 | AK52: PIATTELLI LANCIATI
C53: percentuale presenti | D53: =D52/Generale!F6 -> 0.70833333 | F53: =F52/Generale!F6 -> 0.625 | H53: =H52/Generale!F6 -> 0.45833333 | J53: =J52/Generale!F6 -> 0.70833333 | L53: =L52/Generale!F6 -> 0.45833333 | N53: =N52/Generale!F6 -> 0.41666667 | P53: =P52/Generale!F6 -> 0.33333333 | R53: =R52/Generale!F6 -> 0 | T53: =T52/Generale!F6 -> 0 | V53: =V52/Generale!F6 -> 0
C54: Piattelli totali rotti | D54: =SUM(D4:D50) -> 593.95 | F54: =SUM(F4:F50) -> 478 | H54: =SUM(H4:H50) -> 419 | J54: =SUM(J4:J50) -> 632 | L54: =SUM(L4:L50) -> 409 | N54: =SUM(N4:N50) -> 362 | P54: =SUM(P4:P50) -> 321.997 | R54: =SUM(R4:R50) -> 0 | T54: =SUM(T4:T50) -> 0 | V54: =SUM(V4:V50) -> 0 | X54: =SUM(X4:X50) -> 0 | Z54: =SUM(Z4:Z50) -> 0 | AB54: =SUM(AB4:AB50) -> 46.8 | AD54: =SUM(AD4:AD50) -> 38.5 | AF54: =SUM(AF4:AF50) -> 86.5 | AJ54: =SUM(D54:AG54) -> 3387.747 | AK54: PIATTELLI ROTTI
C56: Media Gruppo | D56: =D54/(D52*2) -> 17.469118 | E56: =E54/(E52*2) -> #DIV/0! | F56: =F54/(F52*2) -> 15.933333 | G56: =G54/(G52*2) -> #DIV/0! | H56: =H54/(H52*2) -> 19.045455 | I56: =I54/(I52*2) -> #DIV/0! | J56: =J54/(J52*2) -> 18.588235 | K56: =K54/(K52*2) -> #DIV/0! | ... Y56: =Y54/(Y52*2) -> #DIV/0!
C58: Media TOTALE ANNUALE | D58: =AJ54/AJ52 -> 0.73646674
